BEGIN:VCALENDAR
VERSION:2.0
PRODID:-//Bohm Theatre - ECPv5.16.0//NONSGML v1.0//EN
CALSCALE:GREGORIAN
METHOD:PUBLISH
X-ORIGINAL-URL:https://bohmtheatre.org
X-WR-CALDESC:Events for Bohm Theatre
REFRESH-INTERVAL;VALUE=DURATION:PT1H
X-Robots-Tag:noindex
X-PUBLISHED-TTL:PT1H
BEGIN:VTIMEZONE
TZID:America/Detroit
BEGIN:DAYLIGHT
TZOFFSETFROM:-0500
TZOFFSETTO:-0400
TZNAME:EDT
DTSTART:20210314T070000
END:DAYLIGHT
BEGIN:STANDARD
TZOFFSETFROM:-0400
TZOFFSETTO:-0500
TZNAME:EST
DTSTART:20211107T060000
END:STANDARD
END:VTIMEZONE
BEGIN:VEVENT
DTSTART;TZID=America/Detroit:20210705T190000
DTEND;TZID=America/Detroit:20210705T220000
DTSTAMP:20260424T042412
CREATED:20210630T185332Z
LAST-MODIFIED:20210630T185459Z
UID:4075-1625511600-1625522400@bohmtheatre.org
SUMMARY:Blues at the Bohm with Good Thang Goin'
DESCRIPTION:Good Thang Goin’ \nJuly 5 @7:00 PM \n  \n“Good Thang Goin’ makes music because we love doing it\, plain and simple. We perform primarily original music with a sprinkling of familiar cover songs. Influenced by blues\, rock\, folk\, jazz\, soul\, raggea & more\, we are best described as Eclectic Groove.” \n  \n  \nAdmission: $10 | Tickets Here \nJammers Welcome Back to the stage — Complete Vaccinations required to sign up for Jam
URL:https://bohmtheatre.org/event/blues-at-the-bohm-with-good-thang-goin/
LOCATION:Bohm Theatre\, 201 S. Superior St\, Albion\, MI\, 49224\, United States
CATEGORIES:Featured - Bohm II,Music
ATTACH;FMTTYPE=image/png:https://bohmtheatre.org/wp-content/uploads/2021/06/GTG.png
END:VEVENT
BEGIN:VEVENT
DTSTART;TZID=America/Detroit:20210717T220000
DTEND;TZID=America/Detroit:20210717T233000
DTSTAMP:20260424T042412
CREATED:20210611T001446Z
LAST-MODIFIED:20210715T195533Z
UID:4061-1626559200-1626564600@bohmtheatre.org
SUMMARY:Word UP at the Bohm
DESCRIPTION:Word Up at the Bohm \n\nJuly 17 @10:00 PM \nHosted by Ryan and Ladi Don of Ryan’s Room. \nWORD UP at the Bohm gives local Hip Hop\, R&B\, Soul artist and poets a platform to showcase their talent! We take pride in allowing artist to be creative and unforgiving in their craft. \n\nAdmission: $10 | Tickets Here \nThink Albion. Think Music.
URL:https://bohmtheatre.org/event/word-up-at-the-bohm-2/
LOCATION:Bohm Theatre\, 201 S. Superior St\, Albion\, MI\, 49224\, United States
CATEGORIES:Featured - Bohm II,Music
ATTACH;FMTTYPE=image/jpeg:https://bohmtheatre.org/wp-content/uploads/2021/06/217779284_4214618498581751_8291664933977940665_n.jpg
END:VEVENT
BEGIN:VEVENT
DTSTART;TZID=America/Detroit:20210721T190000
DTEND;TZID=America/Detroit:20210721T210000
DTSTAMP:20260424T042412
CREATED:20210512T204801Z
LAST-MODIFIED:20210719T190716Z
UID:4046-1626894000-1626901200@bohmtheatre.org
SUMMARY:Bohm Country with 5-Second Rule
DESCRIPTION:Bohm Country  \n5 – Second Rule \nMichael “Albion Slim” Crupi\, Heather Cryderman\, and Gary Martin bring you the Country Music you want to hear!\nSponsored by Walk the Beat-Albion\n\n\n\nJuly 21 @7:00 PM \n  \nAdmission: $10 | Tickets Here
URL:https://bohmtheatre.org/event/bohm-country-with-5-second-rule/
LOCATION:Bohm Theatre\, 201 S. Superior St\, Albion\, MI\, 49224\, United States
CATEGORIES:Featured - Bohm II,Music
ATTACH;FMTTYPE=image/jpeg:https://bohmtheatre.org/wp-content/uploads/2021/05/5-sec.jpg
END:VEVENT
END:VCALENDAR