BEGIN:VCALENDAR
VERSION:2.0
PRODID:-//Bohm Theatre - ECPv5.16.0//NONSGML v1.0//EN
CALSCALE:GREGORIAN
METHOD:PUBLISH
X-ORIGINAL-URL:https://bohmtheatre.org
X-WR-CALDESC:Events for Bohm Theatre
REFRESH-INTERVAL;VALUE=DURATION:PT1H
X-Robots-Tag:noindex
X-PUBLISHED-TTL:PT1H
BEGIN:VTIMEZONE
TZID:America/Detroit
BEGIN:DAYLIGHT
TZOFFSETFROM:-0500
TZOFFSETTO:-0400
TZNAME:EDT
DTSTART:20220313T070000
END:DAYLIGHT
BEGIN:STANDARD
TZOFFSETFROM:-0400
TZOFFSETTO:-0500
TZNAME:EST
DTSTART:20221106T060000
END:STANDARD
END:VTIMEZONE
BEGIN:VEVENT
DTSTART;VALUE=DATE:20220606
DTEND;VALUE=DATE:20220607
DTSTAMP:20260423T064043
CREATED:20220605T021021Z
LAST-MODIFIED:20220605T021021Z
UID:4434-1654473600-1654559999@bohmtheatre.org
SUMMARY:Blues at the Bohm - Who Dat? Blues Band
DESCRIPTION:Who Dat? Blues Band \nJune 6th @7:00 PM \nWho Dat? Blues Band is bringing some “raw and genuine” blues to Albion Michigan. The band’s roots are from the south…the south of the Continent of Africa! Come enjoy the experience with Blues at the Bohm! \nAdmission: $10 | Tickets Here \nJammers Welcome Back to the stage — Complete Vaccinations required to sign up for Jam
URL:https://bohmtheatre.org/event/blues-at-the-bohm-who-dat-blues-band/
LOCATION:Bohm Theatre\, 201 S. Superior St\, Albion\, MI\, 49224\, United States
CATEGORIES:Featured - Bohm II,Music
ATTACH;FMTTYPE=image/jpeg:https://bohmtheatre.org/wp-content/uploads/2022/06/who-dat.jpg
END:VEVENT
BEGIN:VEVENT
DTSTART;VALUE=DATE:20220611
DTEND;VALUE=DATE:20220612
DTSTAMP:20260423T064043
CREATED:20220605T022138Z
LAST-MODIFIED:20220607T201236Z
UID:4439-1654905600-1654991999@bohmtheatre.org
SUMMARY:Word UP at the Bohm with TFX Primadona
DESCRIPTION:Word Up at the Bohm \nTFX Primadona \nJune 11 @10:00 PM \nHosted by Ryan and Ladi Don of Ryan’s Room. \nWORD UP at the Bohm gives local Hip Hop\, R&B\, Soul artist and poets a platform to showcase their talent! \nWe take pride in allowing artist to be creative and unforgiving in their craft. \nAdmission: $10  \nThink Albion. Think Music.
URL:https://bohmtheatre.org/event/word-up-at-the-bohm-with-tfx-primadona/
LOCATION:Bohm II\, 203 S. Superior St\, Albion \, 49224
CATEGORIES:Featured - Bohm II,Music
ATTACH;FMTTYPE=image/jpeg:https://bohmtheatre.org/wp-content/uploads/2022/06/WU.jpg
END:VEVENT
END:VCALENDAR