BEGIN:VCALENDAR
VERSION:2.0
PRODID:-//Bohm Theatre - ECPv5.16.0//NONSGML v1.0//EN
CALSCALE:GREGORIAN
METHOD:PUBLISH
X-ORIGINAL-URL:https://bohmtheatre.org
X-WR-CALDESC:Events for Bohm Theatre
REFRESH-INTERVAL;VALUE=DURATION:PT1H
X-Robots-Tag:noindex
X-PUBLISHED-TTL:PT1H
BEGIN:VTIMEZONE
TZID:America/Detroit
BEGIN:DAYLIGHT
TZOFFSETFROM:-0500
TZOFFSETTO:-0400
TZNAME:EDT
DTSTART:20230312T070000
END:DAYLIGHT
BEGIN:STANDARD
TZOFFSETFROM:-0400
TZOFFSETTO:-0500
TZNAME:EST
DTSTART:20231105T060000
END:STANDARD
END:VTIMEZONE
BEGIN:VEVENT
DTSTART;VALUE=DATE:20230206
DTEND;VALUE=DATE:20230207
DTSTAMP:20260422T184343
CREATED:20230104T182459Z
LAST-MODIFIED:20230124T172829Z
UID:4696-1675641600-1675727999@bohmtheatre.org
SUMMARY:Blues at the Bohm - Asamu Johnson and The Associates of the Blues
DESCRIPTION:The Asamu Johnson and The Associates of the Blues \nFebruary 6 @7:00 PM \n\nChampions of the International Blues Fest in 2016 &2017;\nAsamu Johnson and the Associates of The Blues are here to bring us a standout performance.\n\n\n\n“When… Asamu Johnson & the Associates of The Blues step on (a stage)  they uplift the rich\, endearing heritage of the music along with the hearts and spirits of everyone listening.”\n\nAdmission: $10 | Tickets Here
URL:https://bohmtheatre.org/event/blues-at-the-bohm-asamu-johnson-and-the-associates-of-the-blues/
CATEGORIES:Featured - Bohm II,Music
ATTACH;FMTTYPE=image/jpeg:https://bohmtheatre.org/wp-content/uploads/2023/01/020623.jpg
END:VEVENT
END:VCALENDAR