BEGIN:VCALENDAR
VERSION:2.0
PRODID:-//Bohm Theatre - ECPv5.16.0//NONSGML v1.0//EN
CALSCALE:GREGORIAN
METHOD:PUBLISH
X-ORIGINAL-URL:https://bohmtheatre.org
X-WR-CALDESC:Events for Bohm Theatre
REFRESH-INTERVAL;VALUE=DURATION:PT1H
X-Robots-Tag:noindex
X-PUBLISHED-TTL:PT1H
BEGIN:VTIMEZONE
TZID:America/Detroit
BEGIN:DAYLIGHT
TZOFFSETFROM:-0500
TZOFFSETTO:-0400
TZNAME:EDT
DTSTART:20240310T070000
END:DAYLIGHT
BEGIN:STANDARD
TZOFFSETFROM:-0400
TZOFFSETTO:-0500
TZNAME:EST
DTSTART:20241103T060000
END:STANDARD
END:VTIMEZONE
BEGIN:VEVENT
DTSTART;VALUE=DATE:20240205
DTEND;VALUE=DATE:20240206
DTSTAMP:20260419T203817
CREATED:20240122T212915Z
LAST-MODIFIED:20240122T213329Z
UID:5363-1707091200-1707177599@bohmtheatre.org
SUMMARY:B!G L & Code Blu - Blues at the Bohm
DESCRIPTION:B!G L & Code Blu\nFebruary 8 @7:00 PM\nJackson\, Michigan’s own B!g L and Code Blu bring some hometown R&B\, Funk and Soul to the Bohm Stage in January. Jammers bring your voice\, and instruments. \nAdmission: $20 | Tickets Here
URL:https://bohmtheatre.org/event/bg-l-code-blu-blues-at-the-bohm/
LOCATION:Bohm Theatre\, 201 S. Superior St\, Albion\, MI\, 49224\, United States
CATEGORIES:Music
ATTACH;FMTTYPE=image/png:https://bohmtheatre.org/wp-content/uploads/2024/01/a.png
END:VEVENT
BEGIN:VEVENT
DTSTART;VALUE=DATE:20240225
DTEND;VALUE=DATE:20240226
DTSTAMP:20260419T203817
CREATED:20240212T203036Z
LAST-MODIFIED:20240212T203036Z
UID:5402-1708819200-1708905599@bohmtheatre.org
SUMMARY:Felix and Fingers Dueling Pianos - presented by Swingin' at the Shell
DESCRIPTION:Presented by \nSwingin’ at the Shell\nTHINK ALBION. THINK MUSIC\nFELIX and FINGERS DUELING PIANOS\nTime flies indeed… \nLet the 20th year of Swingin’ at the Shell commence! Our Winter Concert kicks-off with the electrifying performance by Felix and Fingers Dueling Pianos! \nFebruary 25\n6:00 PM\nFree Admission
URL:https://bohmtheatre.org/event/felix-and-fingers-dueling-pianos-presented-by-swingin-at-the-shell/
LOCATION:Bohm Theatre\, 201 S. Superior St\, Albion\, MI\, 49224\, United States
CATEGORIES:Music
ATTACH;FMTTYPE=image/jpeg:https://bohmtheatre.org/wp-content/uploads/2024/02/Swingin2.jpg
END:VEVENT
END:VCALENDAR