BEGIN:VCALENDAR
VERSION:2.0
PRODID:-//Bohm Theatre - ECPv5.16.0//NONSGML v1.0//EN
CALSCALE:GREGORIAN
METHOD:PUBLISH
X-ORIGINAL-URL:https://bohmtheatre.org
X-WR-CALDESC:Events for Bohm Theatre
REFRESH-INTERVAL;VALUE=DURATION:PT1H
X-Robots-Tag:noindex
X-PUBLISHED-TTL:PT1H
BEGIN:VTIMEZONE
TZID:America/Detroit
BEGIN:DAYLIGHT
TZOFFSETFROM:-0500
TZOFFSETTO:-0400
TZNAME:EDT
DTSTART:20240310T070000
END:DAYLIGHT
BEGIN:STANDARD
TZOFFSETFROM:-0400
TZOFFSETTO:-0500
TZNAME:EST
DTSTART:20241103T060000
END:STANDARD
END:VTIMEZONE
BEGIN:VEVENT
DTSTART;VALUE=DATE:20240603
DTEND;VALUE=DATE:20240604
DTSTAMP:20260419T120422
CREATED:20240415T201825Z
LAST-MODIFIED:20240415T201825Z
UID:5517-1717372800-1717459199@bohmtheatre.org
SUMMARY:Denise Davis & The Motor City Sensations - Blues at the Bohm
DESCRIPTION:DENISE DAVIS\n& THE MOTOR CITY SENSATIONS\nJune 3 @7:00 PM\nThey bring the fun and the Detroit groove! You will love the Blues and the Motown sound. Bring your dancin’ shoes! \n  \nJammers bring your voice\, and instruments. Can’t wait to see you there! \nAdmission: $15 | Tickets Here
URL:https://bohmtheatre.org/event/denise-davis-the-motor-city-sensations-blues-at-the-bohm/
LOCATION:Bohm Theatre\, 201 S. Superior St\, Albion\, MI\, 49224\, United States
CATEGORIES:Music
ATTACH;FMTTYPE=image/jpeg:https://bohmtheatre.org/wp-content/uploads/2024/04/DeniseDavisSQ.jpeg
END:VEVENT
END:VCALENDAR