BEGIN:VCALENDAR
VERSION:2.0
PRODID:-//Bohm Theatre - ECPv5.16.0//NONSGML v1.0//EN
CALSCALE:GREGORIAN
METHOD:PUBLISH
X-ORIGINAL-URL:https://bohmtheatre.org
X-WR-CALDESC:Events for Bohm Theatre
REFRESH-INTERVAL;VALUE=DURATION:PT1H
X-Robots-Tag:noindex
X-PUBLISHED-TTL:PT1H
BEGIN:VTIMEZONE
TZID:America/Detroit
BEGIN:DAYLIGHT
TZOFFSETFROM:-0500
TZOFFSETTO:-0400
TZNAME:EDT
DTSTART:20200308T070000
END:DAYLIGHT
BEGIN:STANDARD
TZOFFSETFROM:-0400
TZOFFSETTO:-0500
TZNAME:EST
DTSTART:20201101T060000
END:STANDARD
END:VTIMEZONE
BEGIN:VEVENT
DTSTART;TZID=America/Detroit:20201212T190000
DTEND;TZID=America/Detroit:20201212T190000
DTSTAMP:20260424T212935
CREATED:20201020T174424Z
LAST-MODIFIED:20201211T152328Z
UID:3928-1607799600-1607799600@bohmtheatre.org
SUMMARY:Word UP at the Bohm
DESCRIPTION:Welcome to our kickoff event for our new Word UP at the Bohm series. \n\nJoin us November 12 at 7:00 PM \nLivestreamed on Facebook at Blues at the Bohm \n  \n  \nWord UP at the Bohm is sponsored by Albion’s Big Read.
URL:https://bohmtheatre.org/event/word-up-at-the-bohm/
LOCATION:Bohm Theatre\, 201 S. Superior St\, Albion\, MI\, 49224\, United States
CATEGORIES:Music
ATTACH;FMTTYPE=image/jpeg:https://bohmtheatre.org/wp-content/uploads/2020/10/Word-UP.jpg
END:VEVENT
END:VCALENDAR