BEGIN:VCALENDAR
VERSION:2.0
PRODID:-//Bohm Theatre - ECPv5.16.0//NONSGML v1.0//EN
CALSCALE:GREGORIAN
METHOD:PUBLISH
X-WR-CALNAME:Bohm Theatre
X-ORIGINAL-URL:https://bohmtheatre.org
X-WR-CALDESC:Events for Bohm Theatre
REFRESH-INTERVAL;VALUE=DURATION:PT1H
X-Robots-Tag:noindex
X-PUBLISHED-TTL:PT1H
BEGIN:VTIMEZONE
TZID:America/Detroit
BEGIN:DAYLIGHT
TZOFFSETFROM:-0500
TZOFFSETTO:-0400
TZNAME:EDT
DTSTART:20210314T070000
END:DAYLIGHT
BEGIN:STANDARD
TZOFFSETFROM:-0400
TZOFFSETTO:-0500
TZNAME:EST
DTSTART:20211107T060000
END:STANDARD
END:VTIMEZONE
BEGIN:VEVENT
DTSTART;TZID=America/Detroit:20210104T080000
DTEND;TZID=America/Detroit:20210104T170000
DTSTAMP:20260424T200651
CREATED:20201231T211303Z
LAST-MODIFIED:20201231T211303Z
UID:3983-1609747200-1609779600@bohmtheatre.org
SUMMARY:Blues at the Bohm Featuring Crooked Root
DESCRIPTION:Crooked Root hosts the jam! Catch the Livestream at Blues at the Bohm on Facebook \nJanuary 4\, 2021 at 7 PM \n  \nCrooked Root is melding roots music; (singer/songwriter\, blues\, country and R&B) into a recognizable yet refreshing and memorable direction. Our goal: create and perform music that refreshes the soul! Crooked Root is Joe Ferguson vocal/harmonica\, Matt Landon vocal/guitar\, Eric Busch percussion and Billy LaValley songwriter/bass. \nThey will join us here at the Bohm for a live stream show sponsored by Walk The Beat-Albion
URL:https://bohmtheatre.org/event/blues-at-the-bohm-featuring-crooked-root/
LOCATION:Bohm Theatre\, 201 S. Superior St\, Albion\, MI\, 49224\, United States
CATEGORIES:Music
ATTACH;FMTTYPE=image/jpeg:https://bohmtheatre.org/wp-content/uploads/2020/12/crooked-rroot.jpg
END:VEVENT
END:VCALENDAR