BEGIN:VCALENDAR
VERSION:2.0
PRODID:-//Bohm Theatre - ECPv5.16.0//NONSGML v1.0//EN
CALSCALE:GREGORIAN
METHOD:PUBLISH
X-WR-CALNAME:Bohm Theatre
X-ORIGINAL-URL:https://bohmtheatre.org
X-WR-CALDESC:Events for Bohm Theatre
REFRESH-INTERVAL;VALUE=DURATION:PT1H
X-Robots-Tag:noindex
X-PUBLISHED-TTL:PT1H
BEGIN:VTIMEZONE
TZID:America/Detroit
BEGIN:DAYLIGHT
TZOFFSETFROM:-0500
TZOFFSETTO:-0400
TZNAME:EDT
DTSTART:20210314T070000
END:DAYLIGHT
BEGIN:STANDARD
TZOFFSETFROM:-0400
TZOFFSETTO:-0500
TZNAME:EST
DTSTART:20211107T060000
END:STANDARD
END:VTIMEZONE
BEGIN:VEVENT
DTSTART;TZID=America/Detroit:20210814T220000
DTEND;TZID=America/Detroit:20210814T233000
DTSTAMP:20260424T014246
CREATED:20210806T190744Z
LAST-MODIFIED:20210810T190621Z
UID:4110-1628978400-1628983800@bohmtheatre.org
SUMMARY:Word Up at the Bohm
DESCRIPTION:Word Up at the Bohm \nAugust 14 @10:00 PM \nHosted by Ryan and Ladi Don of Ryan’s Room. \nWORD UP at the Bohm gives local Hip Hop\, R&B\, Soul artist and poets a platform to showcase their talent! We take pride in allowing artist to be creative and unforgiving in their craft. \nAdmission: $10  \nThink Albion. Think Music.
URL:https://bohmtheatre.org/event/word-up-at-the-bohm-3/
CATEGORIES:Featured - Bohm II,Music
ATTACH;FMTTYPE=image/jpeg:https://bohmtheatre.org/wp-content/uploads/2021/08/Logo.jpg
END:VEVENT
END:VCALENDAR