BEGIN:VCALENDAR
VERSION:2.0
PRODID:-//Bohm Theatre - ECPv5.16.0//NONSGML v1.0//EN
CALSCALE:GREGORIAN
METHOD:PUBLISH
X-WR-CALNAME:Bohm Theatre
X-ORIGINAL-URL:https://bohmtheatre.org
X-WR-CALDESC:Events for Bohm Theatre
REFRESH-INTERVAL;VALUE=DURATION:PT1H
X-Robots-Tag:noindex
X-PUBLISHED-TTL:PT1H
BEGIN:VTIMEZONE
TZID:America/Detroit
BEGIN:DAYLIGHT
TZOFFSETFROM:-0500
TZOFFSETTO:-0400
TZNAME:EDT
DTSTART:20210314T070000
END:DAYLIGHT
BEGIN:STANDARD
TZOFFSETFROM:-0400
TZOFFSETTO:-0500
TZNAME:EST
DTSTART:20211107T060000
END:STANDARD
END:VTIMEZONE
BEGIN:VEVENT
DTSTART;VALUE=DATE:20210917
DTEND;VALUE=DATE:20210918
DTSTAMP:20260424T002109
CREATED:20210916T210104Z
LAST-MODIFIED:20210916T210153Z
UID:4151-1631836800-1631923199@bohmtheatre.org
SUMMARY:Word UP at the Bohm - Comedy Edition
DESCRIPTION:Word Up at the Bohm \nSeptember 17 @9:45 PM \nHosted by Ryan and Ladi Don of Ryan’s Room. \nComedian Frank Gutierrez Ft. Special Guest are featured this month at a special Work Up @ The Bohm: Comedy Edition. \nCome enjoy a night of music and laughter.\nSpecial front row Main Floor or VIP balcony table seating available! \nGet your tickets early\, online ticket sales go down the day before the show and at door prices begin on Friday the 17th. \nThink Albion. Think Music.
URL:https://bohmtheatre.org/event/word-up-at-the-bohm-comedy-edition/
LOCATION:Bohm II\, 203 S. Superior St\, Albion \, 49224
CATEGORIES:Comedy,Featured - Bohm II,Music
ATTACH;FMTTYPE=image/jpeg:https://bohmtheatre.org/wp-content/uploads/2021/09/WU.jpg
END:VEVENT
END:VCALENDAR