BEGIN:VCALENDAR
VERSION:2.0
PRODID:-//Bohm Theatre - ECPv5.16.0//NONSGML v1.0//EN
CALSCALE:GREGORIAN
METHOD:PUBLISH
X-ORIGINAL-URL:https://bohmtheatre.org
X-WR-CALDESC:Events for Bohm Theatre
REFRESH-INTERVAL;VALUE=DURATION:PT1H
X-Robots-Tag:noindex
X-PUBLISHED-TTL:PT1H
BEGIN:VTIMEZONE
TZID:America/Detroit
BEGIN:DAYLIGHT
TZOFFSETFROM:-0500
TZOFFSETTO:-0400
TZNAME:EDT
DTSTART:20230312T070000
END:DAYLIGHT
BEGIN:STANDARD
TZOFFSETFROM:-0400
TZOFFSETTO:-0500
TZNAME:EST
DTSTART:20231105T060000
END:STANDARD
END:VTIMEZONE
BEGIN:VEVENT
DTSTART;TZID=America/Detroit:20230102T190000
DTEND;TZID=America/Detroit:20230102T220000
DTSTAMP:20260422T214116
CREATED:20221226T203958Z
LAST-MODIFIED:20230103T005203Z
UID:4683-1672686000-1672696800@bohmtheatre.org
SUMMARY:Blues at the Bohm with Kev Nichols and Blue Tuesday
DESCRIPTION:Kev Nichols and Blue Tuesday\n \nJanuary 2 @7:00 PM \n\n\nKev Nichols & Blue Tuesday host the jam tonight. One of our favorites and a rockin` blues band you`re gonna love!\n\n\n\n\n\nAdmission: $10 | Tickets Here
URL:https://bohmtheatre.org/event/at-the-bohm-with-kev-nichols-and-blue-tuesday/
LOCATION:Bohm Theatre\, 201 S. Superior St\, Albion\, MI\, 49224\, United States
CATEGORIES:Featured - Bohm II,Music
ATTACH;FMTTYPE=image/jpeg:https://bohmtheatre.org/wp-content/uploads/2022/12/Facebook-Banner010223.jpg
END:VEVENT
END:VCALENDAR