BEGIN:VCALENDAR
VERSION:2.0
PRODID:-//Bohm Theatre - ECPv5.16.0//NONSGML v1.0//EN
CALSCALE:GREGORIAN
METHOD:PUBLISH
X-ORIGINAL-URL:https://bohmtheatre.org
X-WR-CALDESC:Events for Bohm Theatre
REFRESH-INTERVAL;VALUE=DURATION:PT1H
X-Robots-Tag:noindex
X-PUBLISHED-TTL:PT1H
BEGIN:VTIMEZONE
TZID:America/Detroit
BEGIN:DAYLIGHT
TZOFFSETFROM:-0500
TZOFFSETTO:-0400
TZNAME:EDT
DTSTART:20230312T070000
END:DAYLIGHT
BEGIN:STANDARD
TZOFFSETFROM:-0400
TZOFFSETTO:-0500
TZNAME:EST
DTSTART:20231105T060000
END:STANDARD
END:VTIMEZONE
BEGIN:VEVENT
DTSTART;VALUE=DATE:20230311
DTEND;VALUE=DATE:20230312
DTSTAMP:20260422T172541
CREATED:20230222T005614Z
LAST-MODIFIED:20230307T011240Z
UID:4765-1678492800-1678579199@bohmtheatre.org
SUMMARY:Enchanted Evening: The Music of Taylor Swift performed by KalHaven Strings
DESCRIPTION:Ready For It? \nSaturday\, March 11        7:00 PM \nJoin us for an Enchanted evening – The Music of Taylor Swift performed by The KalHaven Strings Quartet The ensemble was founded in 2014 as graduate students at Western Michigan University. Highly adaptable and versatile\, they are skilled in performing a variety of styles\, from Vivaldi to Roddy Ricch\, Metallica to Taylor Swift\, Post Malone to Bach\, and more. The KalHaven Strings serve as Candlelight Concerts by Fever’s Grand Rapids-based string quartet\, performing classical concerts\, cover concerts of the music of Taylor Swift and Queen\, movie music\, holiday-themed concerts\, and more. Members can also be found performing with the Kalamazoo\, Lansing\, Fort Wayne\, South Bend\, and West Michigan symphony orchestras and teaching local youth.
URL:https://bohmtheatre.org/event/enchanted-evening-the-music-of-taylor-swift-performed-by-kalhaven-strings/
CATEGORIES:Featured - Bohm II,Music
ATTACH;FMTTYPE=image/jpeg:https://bohmtheatre.org/wp-content/uploads/2023/02/Bohm-Theater-T-Swift-Kalhaven-3-11-concert.jpg
END:VEVENT
END:VCALENDAR