BEGIN:VCALENDAR
VERSION:2.0
PRODID:-//Bohm Theatre - ECPv5.16.0//NONSGML v1.0//EN
CALSCALE:GREGORIAN
METHOD:PUBLISH
X-WR-CALNAME:Bohm Theatre
X-ORIGINAL-URL:https://bohmtheatre.org
X-WR-CALDESC:Events for Bohm Theatre
REFRESH-INTERVAL;VALUE=DURATION:PT1H
X-Robots-Tag:noindex
X-PUBLISHED-TTL:PT1H
BEGIN:VTIMEZONE
TZID:America/Detroit
BEGIN:DAYLIGHT
TZOFFSETFROM:-0500
TZOFFSETTO:-0400
TZNAME:EDT
DTSTART:20230312T070000
END:DAYLIGHT
BEGIN:STANDARD
TZOFFSETFROM:-0400
TZOFFSETTO:-0500
TZNAME:EST
DTSTART:20231105T060000
END:STANDARD
END:VTIMEZONE
BEGIN:VEVENT
DTSTART;VALUE=DATE:20230710
DTEND;VALUE=DATE:20230711
DTSTAMP:20260422T110846
CREATED:20230701T210356Z
LAST-MODIFIED:20230708T173111Z
UID:5029-1688947200-1689033599@bohmtheatre.org
SUMMARY:Blues at the Bohm - Harper & Midwest Kind
DESCRIPTION:Harper & Midwest Kind \nJuly 10 @7:00 PM \n\n\nAn amalgamation of roots\, blues and world music\, award winning Australian singer/ songwriter “Peter D. Harper” creates a heady mix of roots music through his creative use of the harmonica\, and the haunting drone of the didgeridoo. By combining traditional and modern influences\, borrowing from Western and World music\, Harper has created a highly original take on the roots genre.\n\nAdmission: $15 | Tickets Here
URL:https://bohmtheatre.org/event/blues-at-the-bohm-harper-midwest-kind/
LOCATION:Bohm Theatre\, 201 S. Superior St\, Albion\, MI\, 49224\, United States
CATEGORIES:Featured - Bohm II,Music
ATTACH;FMTTYPE=image/jpeg:https://bohmtheatre.org/wp-content/uploads/2023/04/Harper-July-10-2023.jpg
END:VEVENT
END:VCALENDAR