BEGIN:VCALENDAR
VERSION:2.0
PRODID:-//Bohm Theatre - ECPv5.16.0//NONSGML v1.0//EN
CALSCALE:GREGORIAN
METHOD:PUBLISH
X-ORIGINAL-URL:https://bohmtheatre.org
X-WR-CALDESC:Events for Bohm Theatre
REFRESH-INTERVAL;VALUE=DURATION:PT1H
X-Robots-Tag:noindex
X-PUBLISHED-TTL:PT1H
BEGIN:VTIMEZONE
TZID:America/Detroit
BEGIN:DAYLIGHT
TZOFFSETFROM:-0500
TZOFFSETTO:-0400
TZNAME:EDT
DTSTART:20230312T070000
END:DAYLIGHT
BEGIN:STANDARD
TZOFFSETFROM:-0400
TZOFFSETTO:-0500
TZNAME:EST
DTSTART:20231105T060000
END:STANDARD
END:VTIMEZONE
BEGIN:VEVENT
DTSTART;VALUE=DATE:20231002
DTEND;VALUE=DATE:20231003
DTSTAMP:20260422T074253
CREATED:20230802T181523Z
LAST-MODIFIED:20230926T185857Z
UID:5088-1696204800-1696291199@bohmtheatre.org
SUMMARY:Blues at the Bohm with Thornetta Davis
DESCRIPTION:Thornetta Davis\nOctober 2 @7:00 PM\nThornetta Davis is an American Detroit blues and rhythm and blues singer. She has opened for Bonnie Raitt\, Gladys Knight\, and Etta James\, and sang backing vocals on Bob Seger’s 1991 album\, The Fire Inside. She also worked with Kid Rock and Alberta Adams\, and has released two full-length solo albums.\nhttps://thornettadavis.com/bio/ \nAdmission: $20 | Tickets Here
URL:https://bohmtheatre.org/event/blues-at-the-bohm-with-thornetta-davis/
LOCATION:Bohm Theatre\, 201 S. Superior St\, Albion\, MI\, 49224\, United States
CATEGORIES:Music
ATTACH;FMTTYPE=image/png:https://bohmtheatre.org/wp-content/uploads/2023/08/thorn-1.png
END:VEVENT
END:VCALENDAR