BEGIN:VCALENDAR
VERSION:2.0
PRODID:-//Bohm Theatre - ECPv5.16.0//NONSGML v1.0//EN
CALSCALE:GREGORIAN
METHOD:PUBLISH
X-WR-CALNAME:Bohm Theatre
X-ORIGINAL-URL:https://bohmtheatre.org
X-WR-CALDESC:Events for Bohm Theatre
REFRESH-INTERVAL;VALUE=DURATION:PT1H
X-Robots-Tag:noindex
X-PUBLISHED-TTL:PT1H
BEGIN:VTIMEZONE
TZID:America/Detroit
BEGIN:DAYLIGHT
TZOFFSETFROM:-0500
TZOFFSETTO:-0400
TZNAME:EDT
DTSTART:20240310T070000
END:DAYLIGHT
BEGIN:STANDARD
TZOFFSETFROM:-0400
TZOFFSETTO:-0500
TZNAME:EST
DTSTART:20241103T060000
END:STANDARD
END:VTIMEZONE
BEGIN:VEVENT
DTSTART;VALUE=DATE:20240427
DTEND;VALUE=DATE:20240428
DTSTAMP:20260419T171706
CREATED:20240402T180757Z
LAST-MODIFIED:20240422T163045Z
UID:5489-1714176000-1714262399@bohmtheatre.org
SUMMARY:A MOVING SOUND - ARTS MIDWEST WORLD FEST
DESCRIPTION:Arts Midwest World Fest\n \nA MOVING SOUND\n Saturday\, April 27 @3:00 PM \nAdmission: $5 | Tickets Here \n\n\nFusing traditional influences with a global sensibility\, award winning ensemble A Moving Sound (Sheng Don聲動) from Taiwan\, built a worldwide following through their joyous mix of original music and dance. Featuring the distinctive timbres of the erhu (Taiwanese fiddle) and zhong ruan (lute)\, and the transcendent vocals of Mia Hsieh\, A Moving Sound has devised a unique and compelling style that is all their own – a Taiwanese whirlwind that veers between the meditative and the exuberant with irrepressible spirit.Fusing traditional influences with a global sensibility\, award winning ensemble A Moving Sound (Sheng Don聲動) from Taiwan\, built a worldwide following through their joyous mix of original music and dance. Featuring the distinctive timbres of the erhu (Taiwanese fiddle) and zhong ruan (lute)\, and the transcendent vocals of Mia Hsieh\, A Moving Sound has devised a unique and compelling style that is all their own – a Taiwanese whirlwind that veers between the meditative and the exuberant with irrepressible spirit.\n\n\n\n 
URL:https://bohmtheatre.org/event/a-moving-sound-arts-midwest-world-fest/
LOCATION:Bohm Theatre\, 201 S. Superior St\, Albion\, MI\, 49224\, United States
CATEGORIES:Music
ATTACH;FMTTYPE=image/jpeg:https://bohmtheatre.org/wp-content/uploads/2024/04/A-Moving-Sound-Update-Poster-scaled.jpg
END:VEVENT
END:VCALENDAR