BEGIN:VCALENDAR
VERSION:2.0
PRODID:-//Bohm Theatre - ECPv5.16.0//NONSGML v1.0//EN
CALSCALE:GREGORIAN
METHOD:PUBLISH
X-ORIGINAL-URL:https://bohmtheatre.org
X-WR-CALDESC:Events for Bohm Theatre
REFRESH-INTERVAL;VALUE=DURATION:PT1H
X-Robots-Tag:noindex
X-PUBLISHED-TTL:PT1H
BEGIN:VTIMEZONE
TZID:America/Detroit
BEGIN:DAYLIGHT
TZOFFSETFROM:-0500
TZOFFSETTO:-0400
TZNAME:EDT
DTSTART:20240310T070000
END:DAYLIGHT
BEGIN:STANDARD
TZOFFSETFROM:-0400
TZOFFSETTO:-0500
TZNAME:EST
DTSTART:20241103T060000
END:STANDARD
END:VTIMEZONE
BEGIN:VEVENT
DTSTART;VALUE=DATE:20240805
DTEND;VALUE=DATE:20240806
DTSTAMP:20260419T104117
CREATED:20240415T202425Z
LAST-MODIFIED:20240415T202425Z
UID:5523-1722816000-1722902399@bohmtheatre.org
SUMMARY:Selwyn Birchwood - Blues at the Bohm
DESCRIPTION:SELWYN BIRCHWOOD\nAugust 5 @7:00 PM\nAuthentic tales of love\, passion\, pain\, and pleasure are told through the raw and soulful blues tunes by Selwyn Birchwood. The one-of-one “rising guitar and lap steel player” will be delivering an unforgettable “electric swamp funkin’” live blues performance. \n  \nCome enjoy the experience with Blues at the Bohm! \nAdmission: $25 | Tickets Here
URL:https://bohmtheatre.org/event/selwyn-birchwood-blues-at-the-bohm/
LOCATION:Bohm Theatre\, 201 S. Superior St\, Albion\, MI\, 49224\, United States
CATEGORIES:Music
ATTACH;FMTTYPE=image/jpeg:https://bohmtheatre.org/wp-content/uploads/2024/04/SelwynBSQ.jpeg
END:VEVENT
END:VCALENDAR