BEGIN:VCALENDAR
VERSION:2.0
PRODID:-//Bohm Theatre - ECPv5.16.0//NONSGML v1.0//EN
CALSCALE:GREGORIAN
METHOD:PUBLISH
X-WR-CALNAME:Bohm Theatre
X-ORIGINAL-URL:https://bohmtheatre.org
X-WR-CALDESC:Events for Bohm Theatre
REFRESH-INTERVAL;VALUE=DURATION:PT1H
X-Robots-Tag:noindex
X-PUBLISHED-TTL:PT1H
BEGIN:VTIMEZONE
TZID:America/Detroit
BEGIN:DAYLIGHT
TZOFFSETFROM:-0500
TZOFFSETTO:-0400
TZNAME:EDT
DTSTART:20240310T070000
END:DAYLIGHT
BEGIN:STANDARD
TZOFFSETFROM:-0400
TZOFFSETTO:-0500
TZNAME:EST
DTSTART:20241103T060000
END:STANDARD
END:VTIMEZONE
BEGIN:VEVENT
DTSTART;VALUE=DATE:20240909
DTEND;VALUE=DATE:20240910
DTSTAMP:20260419T085221
CREATED:20240806T203815Z
LAST-MODIFIED:20240909T201948Z
UID:5694-1725840000-1725926399@bohmtheatre.org
SUMMARY:The Fat Animals - Blues at the Bohm
DESCRIPTION:THE FAT ANIMALS\nSeptember 9 @7:00 PM\nThe Fat Animals will get you moving in an incredible groove with their “addictive guitar combos and amazing lead and harmonic vocals.” \nCome enjoy the experience with Blues at the Bohm! \nAdmission: $15 | Tickets Here
URL:https://bohmtheatre.org/event/the-fat-animals-blues-at-the-bohm/
LOCATION:Bohm Theatre\, 201 S. Superior St\, Albion\, MI\, 49224\, United States
CATEGORIES:Featured - Bohm II,Music
ATTACH;FMTTYPE=image/png:https://bohmtheatre.org/wp-content/uploads/2024/08/Screenshot-2024-09-03-194613.png
END:VEVENT
END:VCALENDAR