BEGIN:VCALENDAR
VERSION:2.0
PRODID:-//Bohm Theatre - ECPv5.16.0//NONSGML v1.0//EN
CALSCALE:GREGORIAN
METHOD:PUBLISH
X-ORIGINAL-URL:https://bohmtheatre.org
X-WR-CALDESC:Events for Bohm Theatre
REFRESH-INTERVAL;VALUE=DURATION:PT1H
X-Robots-Tag:noindex
X-PUBLISHED-TTL:PT1H
BEGIN:VTIMEZONE
TZID:America/Detroit
BEGIN:DAYLIGHT
TZOFFSETFROM:-0500
TZOFFSETTO:-0400
TZNAME:EDT
DTSTART:20250309T070000
END:DAYLIGHT
BEGIN:STANDARD
TZOFFSETFROM:-0400
TZOFFSETTO:-0500
TZNAME:EST
DTSTART:20251102T060000
END:STANDARD
BEGIN:DAYLIGHT
TZOFFSETFROM:-0500
TZOFFSETTO:-0400
TZNAME:EDT
DTSTART:20260308T070000
END:DAYLIGHT
BEGIN:STANDARD
TZOFFSETFROM:-0400
TZOFFSETTO:-0500
TZNAME:EST
DTSTART:20261101T060000
END:STANDARD
END:VTIMEZONE
BEGIN:VEVENT
DTSTART;VALUE=DATE:20260311
DTEND;VALUE=DATE:20260312
DTSTAMP:20260419T085524
CREATED:20260213T164557Z
LAST-MODIFIED:20260213T164557Z
UID:11822-1773187200-1773273599@bohmtheatre.org
SUMMARY:Irish Whiskey Tasting - Booze at the Bohm
DESCRIPTION:Booze at the Bohm Kicks Off with an Irish Whiskey Tasting at the Bohm Theatre\n\nThe Bohm Theatre is launching a brand-new way to enjoy a night out with Booze at the Bohm\, a fresh tasting series for adults — and it all begins with Irish Whiskey on Wednesday\, March 11\, 2026\, at 6:30 PM.\n\nThis Booze at the Bohm event invites guests to sip\, savor\, and socialize while sampling Irish whiskeys paired with light snacks\, all inside the historic and intimate setting of the Bohm Theatre. Designed to be relaxed\, social\, and just a little indulgent\, Booze at the Bohm will feature rotating themes and beverages throughout the year — and this first event sets the tone.\n\nSeating is limited\, and advance ticket purchases are strongly encouraged. \n\nJoin the Bohm Theatre as it raises a glass to the start of a new tradition. Sláinte!\n\nTICKETS ON SALE NOW\n\n*no discounts are available for tickets to this event
URL:https://bohmtheatre.org/event/irish-whiskey-tasting-booze-at-the-bohm/
LOCATION:Bohm Theatre\, 201 S. Superior St\, Albion\, MI\, 49224\, United States
CATEGORIES:Signature Series Event
ATTACH;FMTTYPE=image/jpeg:https://bohmtheatre.org/wp-content/uploads/2026/02/Poster.jpg
END:VEVENT
BEGIN:VEVENT
DTSTART;VALUE=DATE:20251115
DTEND;VALUE=DATE:20251116
DTSTAMP:20260419T085525
CREATED:20250913T194100Z
LAST-MODIFIED:20251103T201159Z
UID:10873-1763164800-1763251199@bohmtheatre.org
SUMMARY:Love Actually - Brunch at the Bohm
DESCRIPTION:BRUNCH AT THE BOHM\nBrunch at the Bohm is back on Saturday\, November 15\, with Love Actually at 10:00 am in Bohm II\n  \nBrunch at the Bohm combines gourmet brunch offerings and a themed iconic film in a charming small theatre setting. \nGuests will enjoy a delicious local snacks as part of the experience. \nIt’s the perfect way to start your Saturday with friends and\nfamily. \nSeating is limited. \n  \nTICKETS HERE \nSponsored by Edward Jones Financial Advisor Brandy N Eggleston \n*no discounts are available for tickets to this event
URL:https://bohmtheatre.org/event/love-actually-brunch-at-the-bohm/
LOCATION:Bohm II\, 203 S. Superior St\, Albion \, 49224
CATEGORIES:Movie,Signature Series Event
ATTACH;FMTTYPE=image/jpeg:https://bohmtheatre.org/wp-content/uploads/2025/09/Brunch-Poster.jpg
END:VEVENT
BEGIN:VEVENT
DTSTART;VALUE=DATE:20251112
DTEND;VALUE=DATE:20251113
DTSTAMP:20260419T085525
CREATED:20251013T190811Z
LAST-MODIFIED:20251103T201122Z
UID:11190-1762905600-1762991999@bohmtheatre.org
SUMMARY:Holiday Mixology
DESCRIPTION:Learn to make 6 different cocktails for your upcoming holiday celebrations! Six tastings with recipe cards. Recipe cards include mocktail alternatives.\nSpecialty snacks and photo opportunities.\n\nTICKETS HERE
URL:https://bohmtheatre.org/event/holiday-mixology/
LOCATION:Bohm Theatre\, 201 S. Superior St\, Albion\, MI\, 49224\, United States
CATEGORIES:Signature Series Event
ATTACH;FMTTYPE=image/jpeg:https://bohmtheatre.org/wp-content/uploads/2025/10/Mixology-Flyer-jpg.jpg
END:VEVENT
BEGIN:VEVENT
DTSTART;VALUE=DATE:20251022
DTEND;VALUE=DATE:20251023
DTSTAMP:20260419T085525
CREATED:20251013T190640Z
LAST-MODIFIED:20251013T190640Z
UID:11188-1761091200-1761177599@bohmtheatre.org
SUMMARY:Signature Series - Odd Brothers Cider Tasting
DESCRIPTION:Odd Brothers Cider invites cider enthusiasts ages 21 and over to experience a one-of-a-kind tasting and pairing event featuring four of their unique\, handcrafted ciders. Guests will enjoy guided pours that highlight the artistry and bold flavors that set Odd Brothers apart\, paired thoughtfully to enhance each cider’s character.\nThis event offers the perfect opportunity to discover new favorites\, learn about Odd Brothers’ innovative approach to cider making\, and connect with others who share a passion for locally crafted beverages.\n\nSpace is limited—don’t miss your chance to raise a glass with Odd Brothers Cider. Get your tickets now.\n*no discounts are available for tickets to this event
URL:https://bohmtheatre.org/event/signature-series-odd-brothers-cider-tasting/
LOCATION:Bohm Theatre\, 201 S. Superior St\, Albion\, MI\, 49224\, United States
CATEGORIES:Signature Series Event
ATTACH;FMTTYPE=image/jpeg:https://bohmtheatre.org/wp-content/uploads/2025/10/3.jpg
END:VEVENT
BEGIN:VEVENT
DTSTART;VALUE=DATE:20251018
DTEND;VALUE=DATE:20251019
DTSTAMP:20260419T085525
CREATED:20250913T182724Z
LAST-MODIFIED:20250913T182724Z
UID:10865-1760745600-1760831999@bohmtheatre.org
SUMMARY:LITTLE SHOP OF HORRORS - Broadway at the Bohm
DESCRIPTION:BROADWAY at the BOHM\nBroadway at the Bohm returns on Saturday\, October 18 at 1:00 pm in Bohm II with Little Shop of Horrors\n\nBroadway at the Bohm brings the excitement of New York’s iconic theatre scene to the silver screen of Bohm II in the heart of Albion. \nThis event will showcase cinematic adaptations of Broadway\nclassics and contemporary hits on Bohm II’s big screen. \nWhether you’re a seasoned theatregoer or a classic film fanatic\, Broadway at the Bohm offers a spectacular afternoon of entertainment you won’t want to miss. \nThemed snacks or light meal is included as part of the experience. \nSponsored by Colson Group
URL:https://bohmtheatre.org/event/little-shop-of-horrors-broadway-at-the-bohm/
LOCATION:Bohm II\, 203 S. Superior St\, Albion \, 49224
CATEGORIES:Movie,Signature Series Event
ATTACH;FMTTYPE=image/jpeg:https://bohmtheatre.org/wp-content/uploads/2025/09/Broadway-Poster.jpg
END:VEVENT
BEGIN:VEVENT
DTSTART;VALUE=DATE:20250917
DTEND;VALUE=DATE:20250918
DTSTAMP:20260419T085525
CREATED:20250811T185623Z
LAST-MODIFIED:20250915T182048Z
UID:10648-1758067200-1758153599@bohmtheatre.org
SUMMARY:Bourbon at The Bohm - Signature Series
DESCRIPTION:BOURBON AT THE BOHM\nBourbon at the Bohm events kick off on Wednesday evening\, September 17\, 7:00 pm in Bohm I\nTickets are $35.00\nBourbon at the Bohm is back again as a premier event celebrating the rich flavors of bourbon with a curated\nselection of some of the finest bourbons available today\, including rare releases and fan favorites. \nThis unique event will feature tastings from four unique distilleries\, discussion on bourbon origins\, and charcuterie boards! \n  \nWhether you’re an experienced aficionado or simply curious about this\niconic American spirit\, Bourbon at the Bohm promises a memorable experience for all attendees. \n  \nGET YOUR TICKETS NOW \nSponsored by Albion Insurance Agency \n\n*no discounts are available for tickets to this event
URL:https://bohmtheatre.org/event/bourbon-at-the-bohm-signature-series-3/
LOCATION:Bohm Theatre\, 201 S. Superior St\, Albion\, MI\, 49224\, United States
CATEGORIES:Signature Series Event
ATTACH;FMTTYPE=image/jpeg:https://bohmtheatre.org/wp-content/uploads/2025/08/PosterBourbon3.jpg
END:VEVENT
BEGIN:VEVENT
DTSTART;VALUE=DATE:20250816
DTEND;VALUE=DATE:20250817
DTSTAMP:20260419T085525
CREATED:20250703T212151Z
LAST-MODIFIED:20250703T212151Z
UID:10429-1755302400-1755388799@bohmtheatre.org
SUMMARY:Dirty Dancing - Brunch at the Bohm
DESCRIPTION:BRUNCH AT THE BOHM\nBrunch at the Bohm is back on Saturday\, August 16\, with Dirty Dancing at 10:00 am in Bohm II\n  \nBrunch at the Bohm combines gourmet brunch offerings and a themed iconic film in a charming small theatre setting. \nGuests will enjoy a delicious local snacks as part of the experience. \nIt’s the perfect way to start your Saturday with friends and\nfamily. \n  \nBrunch at the Bohm will have additional an event scheduled for  November 15\, 2025. \nSponsored by Secure Investors Group \n\n*no discounts are available for tickets to this event
URL:https://bohmtheatre.org/event/dirty-dancing-brunch-at-the-bohm/
LOCATION:Bohm II\, 203 S. Superior St\, Albion \, 49224
CATEGORIES:Movie,Signature Series Event
ATTACH;FMTTYPE=image/png:https://bohmtheatre.org/wp-content/uploads/2025/07/Screenshot-2025-07-03-172047.png
END:VEVENT
BEGIN:VEVENT
DTSTART;VALUE=DATE:20250808
DTEND;VALUE=DATE:20250809
DTSTAMP:20260419T085525
CREATED:20250703T212510Z
LAST-MODIFIED:20250703T212510Z
UID:10433-1754611200-1754697599@bohmtheatre.org
SUMMARY:Billy Madison - bohm@nite
DESCRIPTION:BILLY MADSION\nbohm@nite\n\nMan-child Billy Madison has been a spoiled rich kid all his life\, and spends his days drinking and partying. When his father\, hotel magnate Brian\, becomes fed up with his son’s irresponsible ways\, he issues an ultimatum. Since Billy passed all his schooling thanks to his father’s influence and bribes\, he must retake and pass every grade in 24 weeks. Otherwise\, the business will be turned over to Brian’s conniving associate\, Eric. \nAugust 8th| 10:00 PM \n$5.00 Tickets on Sale Now
URL:https://bohmtheatre.org/event/billy-madison-bohmnite/
LOCATION:Bohm Theatre\, 201 S. Superior St\, Albion\, MI\, 49224\, United States
CATEGORIES:Movie,Signature Series Event
ATTACH;FMTTYPE=image/png:https://bohmtheatre.org/wp-content/uploads/2025/07/Screenshot-2025-07-03-172105.png
END:VEVENT
BEGIN:VEVENT
DTSTART;VALUE=DATE:20250719
DTEND;VALUE=DATE:20250720
DTSTAMP:20260419T085525
CREATED:20250529T181320Z
LAST-MODIFIED:20250529T181320Z
UID:9823-1752883200-1752969599@bohmtheatre.org
SUMMARY:HAIRSPRAY - Broadway at the Bohm
DESCRIPTION:BROADWAY at the BOHM\nBroadway at the Bohm returns on Saturday\, July 19 at 1:00 pm in Bohm II with Hairspray\n\nBroadway at the Bohm brings the excitement of New York’s iconic theatre scene to the silver screen of Bohm II in the heart of Albion. \nThis event will showcase cinematic adaptations of Broadway\nclassics and contemporary hits on Bohm II’s big screen. \nWhether you’re a seasoned theatregoer or a classic film fanatic\, Broadway at the Bohm offers a spectacular afternoon of entertainment you won’t want to miss. \nThemed snacks or light meal is included as part of the experience. \nBroadway at the Bohm will have an additional event scheduled for Saturday\,  October 18\, 2025. \nSponsored by Secure Investors Group \n \n\n*no discounts are available for tickets to this event
URL:https://bohmtheatre.org/event/hairspray-broadway-at-the-bohm/
LOCATION:Bohm II\, 203 S. Superior St\, Albion \, 49224
CATEGORIES:Signature Series Event
ATTACH;FMTTYPE=image/png:https://bohmtheatre.org/wp-content/uploads/2025/05/BORADWAY-2.png
END:VEVENT
BEGIN:VEVENT
DTSTART;TZID=America/Detroit:20250618T080000
DTEND;TZID=America/Detroit:20250618T170000
DTSTAMP:20260419T085525
CREATED:20250529T180048Z
LAST-MODIFIED:20250529T180122Z
UID:9817-1750233600-1750266000@bohmtheatre.org
SUMMARY:Bourbon at the Bohm - Signature Series
DESCRIPTION:BOURBON AT THE BOHM\nBourbon at the Bohm events kick off on Wednesday evening\, June 18\, 7:00 pm in Bohm I\nTickets are $35.00\nBourbon at the Bohm is back again as a premier event celebrating the rich flavors of bourbon with a curated\nselection of some of the finest bourbons available today\, including rare releases and fan favorites. \nThis unique event will feature tastings from four unique distilleries\, discussion on bourbon origins\, and charcuterie boards! \nTasting includes:  \nStill Austin Cask Strength – Texas \nBib & Tucker Small Batch – Tennessee \nHeaven Hill Bottled in Bond – Kentucky \nFrey Ranch Straight Bourbon Whiskey – Nevada \n  \nWhether you’re an experienced aficionado or simply curious about this\niconic American spirit\, Bourbon at the Bohm promises a memorable experience for all attendees. \nBourbon at the Bohm will have an additional event scheduled for Wednesday  September 17. \nSponsored by SECURE INVESTORS GROUP \n \n\n*no discounts are available for tickets to this event
URL:https://bohmtheatre.org/event/bourbon-at-the-bohm-signature-series-2/
LOCATION:Bohm Theatre\, 201 S. Superior St\, Albion\, MI\, 49224\, United States
CATEGORIES:Signature Series Event
ATTACH;FMTTYPE=image/png:https://bohmtheatre.org/wp-content/uploads/2025/05/BOURBON2.png
END:VEVENT
BEGIN:VEVENT
DTSTART;VALUE=DATE:20250517
DTEND;VALUE=DATE:20250518
DTSTAMP:20260419T085525
CREATED:20250219T002423Z
LAST-MODIFIED:20250224T161631Z
UID:8322-1747440000-1747526399@bohmtheatre.org
SUMMARY:Breakfast at Tiffany's - Brunch at the Bohm Signature Series
DESCRIPTION:BRUNCH AT THE BOHM\nBrunch at the Bohm kicks off on Saturday\, May 17\, with Breakfast at Tiffany’s at 10:00 am in Bohm II\nTICKETS $35\nBrunch at the Bohm combines gourmet brunch offerings and a themed iconic film in a charming small theatre setting. \nGuests will enjoy a delicious spread of locally prepared dishes\,\nfreshly brewed coffee\, and bottomless mimosas followed by a specially curated theme-related\nmovie to finish off the experience. \nIt’s the perfect way to start your Saturday with friends and\nfamily. \n  \nBrunch at the Bohm will have additional events scheduled for Saturday\, August 16\, and November 15\, 2025. \nSponsored by Decker Manufacturing \n \n*no discounts are available for tickets to this event
URL:https://bohmtheatre.org/event/breakfast-at-tiffanys-brunch-at-the-bohm-signature-series/
LOCATION:Bohm II\, 203 S. Superior St\, Albion \, 49224
CATEGORIES:Movie,Signature Series Event
ATTACH;FMTTYPE=image/png:https://bohmtheatre.org/wp-content/uploads/2025/02/Brunch-at-the-Bohm.png
END:VEVENT
BEGIN:VEVENT
DTSTART;VALUE=DATE:20250425
DTEND;VALUE=DATE:20250426
DTSTAMP:20260419T085525
CREATED:20250331T173509Z
LAST-MODIFIED:20250331T173509Z
UID:8330-1745539200-1745625599@bohmtheatre.org
SUMMARY:Friday - bohm@nite
DESCRIPTION:Friday\nbohm@nite\n\nIt’s Friday and Craig Jones (Ice Cube) has just gotten fired for stealing cardboard boxes. To make matters worse\, rent is due\, he hates his overbearing girlfriend\, Joi (Paula Jai Parker)\, and his best friend\, Smokey (Chris Tucker)\, owes the local drug dealer money — and that’s all before lunch. As the hours drag on\, Jones and Smokey experience the gamut of urban life\, complete with crackheads\, shoot-outs and overly sexual pastors\, concentrated into one single\, unbelievable Friday. \nApril 25th | 10:00 PM \n$5.00 Tickets on Sale Now
URL:https://bohmtheatre.org/event/friday-bohmnite/
LOCATION:Bohm Theatre\, 201 S. Superior St\, Albion\, MI\, 49224\, United States
CATEGORIES:Movie,Signature Series Event
ATTACH;FMTTYPE=image/jpeg:https://bohmtheatre.org/wp-content/uploads/2025/02/friday.jpg
END:VEVENT
BEGIN:VEVENT
DTSTART;VALUE=DATE:20250412
DTEND;VALUE=DATE:20250413
DTSTAMP:20260419T085525
CREATED:20250219T002411Z
LAST-MODIFIED:20250317T161319Z
UID:8318-1744416000-1744502399@bohmtheatre.org
SUMMARY:GREASE -Broadway at the Bohm Signature Series
DESCRIPTION:BROADWAY at the BOHM\nBroadway at the Bohm kicks off on Saturday\, April 12 at 1:00 pm in Bohm II with Grease\nTICKETS $25\nBroadway at the Bohm brings the excitement of New York’s iconic theatre scene to the historic Bohm Theatre in the heart of Albion. \nThis event will showcase cinematic adaptations of Broadway\nclassics and contemporary hits on Bohm II’s big screen. \nWhether you’re a seasoned theatregoer or a classic film fanatic\, Broadway at the Bohm offers a spectacular afternoon of entertainment you won’t want to miss. \nThemed snacks or light meal is included as part of the experience. \nBroadway at the Bohm will have additional events scheduled for Saturday\, July 19\, and October 18\, 2025. \nSponsored by Decker Manufacturing \n\n*no discounts are available for tickets to this event
URL:https://bohmtheatre.org/event/grease-broadway-at-the-bohm-signature-series/
LOCATION:Bohm II\, 203 S. Superior St\, Albion \, 49224
CATEGORIES:Movie,Signature Series Event
ATTACH;FMTTYPE=image/png:https://bohmtheatre.org/wp-content/uploads/2025/02/2.png
END:VEVENT
BEGIN:VEVENT
DTSTART;VALUE=DATE:20250328
DTEND;VALUE=DATE:20250329
DTSTAMP:20260419T085525
CREATED:20250219T195543Z
LAST-MODIFIED:20250219T195543Z
UID:8333-1743120000-1743206399@bohmtheatre.org
SUMMARY:Austin Powers - bohm@nite
DESCRIPTION:AUSTIN POWERS\nbohm@nite\n\nSpoof of 1960s spy films\, in which cryogenically preserved secret agent Austin Powers is revived in the present day. Once synonymous with style\, Powers soon realises that his vocabulary\, fashion sense and attitude to women are hopelessly out of date. He enlists the help of a decidedly modern woman to help him adjust to the 1990s and vanquish his old adversary\, Dr Evil. \nMarch 28th | 10:00 PM \n$5.00 Tickets on Sale Now
URL:https://bohmtheatre.org/event/austin-powers-bohmnite/
LOCATION:Bohm Theatre\, 201 S. Superior St\, Albion\, MI\, 49224\, United States
CATEGORIES:Movie,Signature Series Event
ATTACH;FMTTYPE=image/jpeg:https://bohmtheatre.org/wp-content/uploads/2025/02/powers.jpg
END:VEVENT
BEGIN:VEVENT
DTSTART;VALUE=DATE:20250319
DTEND;VALUE=DATE:20250320
DTSTAMP:20260419T085525
CREATED:20250219T002355Z
LAST-MODIFIED:20250224T161510Z
UID:8315-1742342400-1742428799@bohmtheatre.org
SUMMARY:Bourbon at the Bohm - Signature Series
DESCRIPTION:BOURBON AT THE BOHM\nBourbon at the Bohm events kick off on Wednesday evening\, March 19\, 7:00 pm in Bohm I\nTickets are $35.00\nBourbon at the Bohm is a premier event celebrating the rich flavors of bourbon with a curated\nselection of some of the finest bourbons available today\, including rare releases and fan favorites.\nThis unique event will feature expert guidance from renowned distillers and connoisseurs who\nwill share their passion and knowledge of bourbon making\, tasting\, and history. \nGuests will enjoy sampling a variety of bourbons and delectable appetizers in the elegant surroundings of the historic Bohm Theatre. \nWhether you’re an experienced aficionado or simply curious about this\niconic American spirit\, Bourbon at the Bohm promises a memorable experience for all attendees. \nBourbon at the Bohm will have additional events scheduled for Wednesday\, June 18\, and September 17. \nSponsored by Decker Manufacturing \n\n*no discounts are available for tickets to this event
URL:https://bohmtheatre.org/event/bourbon-at-the-bohm-signature-series/
LOCATION:Bohm Theatre\, 201 S. Superior St\, Albion\, MI\, 49224\, United States
CATEGORIES:Signature Series Event
ATTACH;FMTTYPE=image/png:https://bohmtheatre.org/wp-content/uploads/2025/02/1-1.png
END:VEVENT
END:VCALENDAR