BEGIN:VCALENDAR
VERSION:2.0
PRODID:-//Bohm Theatre - ECPv5.16.0//NONSGML v1.0//EN
CALSCALE:GREGORIAN
METHOD:PUBLISH
X-WR-CALNAME:Bohm Theatre
X-ORIGINAL-URL:https://bohmtheatre.org
X-WR-CALDESC:Events for Bohm Theatre
REFRESH-INTERVAL;VALUE=DURATION:PT1H
X-Robots-Tag:noindex
X-PUBLISHED-TTL:PT1H
BEGIN:VTIMEZONE
TZID:America/Detroit
BEGIN:DAYLIGHT
TZOFFSETFROM:-0500
TZOFFSETTO:-0400
TZNAME:EDT
DTSTART:20190310T070000
END:DAYLIGHT
BEGIN:STANDARD
TZOFFSETFROM:-0400
TZOFFSETTO:-0500
TZNAME:EST
DTSTART:20191103T060000
END:STANDARD
END:VTIMEZONE
BEGIN:VEVENT
DTSTART;VALUE=DATE:20190725
DTEND;VALUE=DATE:20190726
DTSTAMP:20260420T005149
CREATED:20190702T173812Z
LAST-MODIFIED:20190723T170236Z
UID:3148-1564012800-1564099199@bohmtheatre.org
SUMMARY:Spider-Man: Far From Home
DESCRIPTION:Rated PG-13 | 2hr 9min \nShowtimes: \n\nThu 6:30 PM\n\n \nTickets are $5.00 before 5:00 pm. At 5:00 pm and after adults are $6.50\, children (12 and under) and seniors (62 and over) are $5.50. \n\nFollowing the events of Avengers: Endgame\, Spider-Man must step up to take on new threats in a world that has changed forever.
URL:https://bohmtheatre.org/event/spider-man-far-from-home/
LOCATION:Bohm II\, 203 S. Superior St\, Albion \, 49224
CATEGORIES:Movie
END:VEVENT
BEGIN:VEVENT
DTSTART;VALUE=DATE:20190711
DTEND;VALUE=DATE:20190715
DTSTAMP:20260420T005149
CREATED:20190618T145747Z
LAST-MODIFIED:20190709T151308Z
UID:3133-1562803200-1563148799@bohmtheatre.org
SUMMARY:Toy Story 4
DESCRIPTION:Rated PG | 1hr 40min \nShowtimes: \n\nThu 6:30 PM\nFri 6:30 PM\nSat 3:30 & 6:30 PM\nSun 3:30 & 6:30 PM\n\n \nTickets are $5.00 before 5:00 pm. At 5:00 pm and after adults are $6.50\, children (12 and under) and seniors (62 and over) are $5.50. \n\nWhen a new toy called “Forky” joins Woody and the gang\, a road trip alongside old and new friends reveals how big the world can be for a toy.
URL:https://bohmtheatre.org/event/toy-story-4/
LOCATION:Bohm II\, 203 S. Superior St\, Albion \, 49224
CATEGORIES:Featured - Bohm II,Movie
END:VEVENT
BEGIN:VEVENT
DTSTART;TZID=America/Detroit:20190701T190000
DTEND;TZID=America/Detroit:20190701T220000
DTSTAMP:20260420T005149
CREATED:20190618T150600Z
LAST-MODIFIED:20190618T150600Z
UID:3136-1562007600-1562018400@bohmtheatre.org
SUMMARY:Deacon Earl & The Icy Waters Band
DESCRIPTION:Deacon Earl & The Icy Waters Band to host Blues at the Bohm in July. \n  \nGeneral Admission: $10  \nBohm Members: $5 \nThink Albion. Think Music.
URL:https://bohmtheatre.org/event/deacon-earl-the-icy-waters-band/
LOCATION:Bohm Theatre\, 201 S. Superior St\, Albion\, MI\, 49224\, United States
CATEGORIES:Music
ATTACH;FMTTYPE=image/jpeg:https://bohmtheatre.org/wp-content/uploads/2019/06/Deacon-Earl.jpg
END:VEVENT
BEGIN:VEVENT
DTSTART;VALUE=DATE:20190627
DTEND;VALUE=DATE:20190701
DTSTAMP:20260420T005149
CREATED:20190611T155319Z
LAST-MODIFIED:20190625T142954Z
UID:3123-1561593600-1561939199@bohmtheatre.org
SUMMARY:Men In Black: International
DESCRIPTION:Rated PG-13 | 1hr 55min \nShowtimes: \n\nThu 6:30 PM\nFri 6:30 PM\nSat 3:30 & 6:30 PM\nSun 3:30 & 6:30 PM\n\n \nTickets are $5.00 before 5:00 pm. At 5:00 pm and after adults are $6.50\, children (12 and under) and seniors (62 and over) are $5.50. \n\nThe Men in Black have always protected the Earth from the scum of the universe. In this new adventure\, they tackle their biggest threat to date: a mole in the Men in Black organization.
URL:https://bohmtheatre.org/event/men-in-black-international/
LOCATION:Bohm II\, 203 S. Superior St\, Albion \, 49224
CATEGORIES:Featured - Bohm II,Movie
END:VEVENT
BEGIN:VEVENT
DTSTART;VALUE=DATE:20190613
DTEND;VALUE=DATE:20190617
DTSTAMP:20260420T005149
CREATED:20190604T164821Z
LAST-MODIFIED:20190611T155015Z
UID:3116-1560384000-1560729599@bohmtheatre.org
SUMMARY:The Secret Life of Pets 2
DESCRIPTION:Rated PG | 1hr 26min \nShowtimes: \n\nThu 6:30 PM\nFri 6:30 PM\nSat 3:30 & 6:30 PM\nSun 3:30 & 6:30 PM\n\n \nTickets are $5.00 before 5:00 pm. At 5:00 pm and after adults are $6.50\, children (12 and under) and seniors (62 and over) are $5.50. \n\nContinuing the story of Max and his pet friends\, following their secret lives after their owners leave them for work or school each day.
URL:https://bohmtheatre.org/event/the-secret-life-of-pets-2/
LOCATION:Bohm II\, 203 S. Superior St\, Albion \, 49224
CATEGORIES:Featured - Bohm II,Movie
END:VEVENT
BEGIN:VEVENT
DTSTART;VALUE=DATE:20190612
DTEND;VALUE=DATE:20190613
DTSTAMP:20260420T005149
CREATED:20190611T155653Z
LAST-MODIFIED:20190611T155653Z
UID:3127-1560297600-1560383999@bohmtheatre.org
SUMMARY:A Vigilante
DESCRIPTION:Rated R | 1hr 31min \nShowtimes: \n\nWednesday: 6:30 PM\n\n\nA vigilante helps victims escape their domestic abusers.
URL:https://bohmtheatre.org/event/a-vigilante/
LOCATION:Bohm II\, 203 S. Superior St\, Albion \, 49224
CATEGORIES:Movie
END:VEVENT
BEGIN:VEVENT
DTSTART;VALUE=DATE:20190606
DTEND;VALUE=DATE:20190610
DTSTAMP:20260420T005149
CREATED:20190528T161915Z
LAST-MODIFIED:20190604T164639Z
UID:3111-1559779200-1560124799@bohmtheatre.org
SUMMARY:Godzilla: King of the Monsters
DESCRIPTION:Rated PG-13 | 2hr 11min \nShowtimes: \n\nThu 6:30 PM\nFri 6:30 PM\nSat 3:30 & 6:30 PM\nSun 3:30 & 6:30 PM\n\n \nTickets are $5.00 before 5:00 pm. At 5:00 pm and after adults are $6.50\, children (12 and under) and seniors (62 and over) are $5.50. \n\nThe crypto-zoological agency Monarch faces off against a battery of god-sized monsters\, including the mighty Godzilla\, who collides with Mothra\, Rodan\, and his ultimate nemesis\, the three-headed King Ghidorah.
URL:https://bohmtheatre.org/event/godzilla-king-of-the-monsters/
LOCATION:Bohm II\, 203 S. Superior St\, Albion \, 49224
CATEGORIES:Featured - Bohm II,Movie
END:VEVENT
BEGIN:VEVENT
DTSTART;VALUE=DATE:20190530
DTEND;VALUE=DATE:20190603
DTSTAMP:20260420T005149
CREATED:20190521T171535Z
LAST-MODIFIED:20190528T161929Z
UID:3102-1559174400-1559519999@bohmtheatre.org
SUMMARY:Aladdin
DESCRIPTION:Rated PG | 2hr 08min \nShowtimes: \n\nThu 6:30 PM\nFri 6:30 PM\nSat 3:30 & 6:30 PM\nSun 3:30 & 6:30 PM\n\n \nTickets are $5.00 before 5:00 pm. At 5:00 pm and after adults are $6.50\, children (12 and under) and seniors (62 and over) are $5.50. \n\nA kindhearted street urchin and a power-hungry Grand Vizier vie for a magic lamp that has the power to make their deepest wishes come true.
URL:https://bohmtheatre.org/event/aladdin/
LOCATION:Bohm II\, 203 S. Superior St\, Albion \, 49224
CATEGORIES:Featured - Bohm II,Movie
END:VEVENT
BEGIN:VEVENT
DTSTART;VALUE=DATE:20190523
DTEND;VALUE=DATE:20190528
DTSTAMP:20260420T005149
CREATED:20190514T164944Z
LAST-MODIFIED:20190521T171345Z
UID:3097-1558569600-1559001599@bohmtheatre.org
SUMMARY:John Wick: Chapter 3 - Parabellum
DESCRIPTION:Rated R | 2hr 10min \nShowtimes: \n\nThu 6:30 PM\nFri 6:30 PM\nSat 3:30 & 6:30 PM\nSun 3:30 & 6:30 PM\nMon 3:30 & 6:30 PM\n\n \nTickets are $5.00 before 5:00 pm. At 5:00 pm and after adults are $6.50\, children (12 and under) and seniors (62 and over) are $5.50. \n\nSuper-assassin John Wick is on the run after killing a member of the international assassin’s guild\, and with a $14 million price tag on his head – he is the target of hit men and women everywhere.
URL:https://bohmtheatre.org/event/john-wick-chapter-3-parabellum/
LOCATION:Bohm II\, 203 S. Superior St\, Albion \, 49224
CATEGORIES:Featured - Bohm II,Movie
END:VEVENT
BEGIN:VEVENT
DTSTART;VALUE=DATE:20190516
DTEND;VALUE=DATE:20190520
DTSTAMP:20260420T005149
CREATED:20190507T170621Z
LAST-MODIFIED:20190514T164700Z
UID:3091-1557964800-1558310399@bohmtheatre.org
SUMMARY:Pokémon Detective Pikachu
DESCRIPTION:Rated PG | 1hr 44min \nShowtimes: \n\nThu 6:30 PM\nFri 6:30 PM\nSat 3:30 & 6:30 PM\nSun 3:30 & 6:30 PM\n\n \nTickets are $5.00 before 5:00 pm. At 5:00 pm and after adults are $6.50\, children (12 and under) and seniors (62 and over) are $5.50. \n\nIn a world where people collect Pokémon to do battle\, a boy comes across an intelligent talking Pikachu who seeks to be a detective.
URL:https://bohmtheatre.org/event/pokemon-detective-pikachu/
LOCATION:Bohm II\, 203 S. Superior St\, Albion \, 49224
CATEGORIES:Featured - Bohm II,Movie
END:VEVENT
BEGIN:VEVENT
DTSTART;VALUE=DATE:20190509
DTEND;VALUE=DATE:20190513
DTSTAMP:20260420T005149
CREATED:20190417T182630Z
LAST-MODIFIED:20190507T171519Z
UID:3076-1557360000-1557705599@bohmtheatre.org
SUMMARY:Avengers: Endgame
DESCRIPTION:Rated PG-13 | 3hr 1min \nShowtimes: \n\nThu 8:30 PM\nFri 6:30 PM\nSat 3:30 & 7:30 PM\nSun 3:30 & 7:30 PM\n\n \nTickets are $5.00 before 5:00 pm. At 5:00 pm and after adults are $6.50\, children (12 and under) and seniors (62 and over) are $5.50. \n\nAfter the devastating events of Avengers: Infinity War\, the universe is in ruins. With the help of remaining allies\, the Avengers assemble once more in order to undo Thanos’ actions and restore order to the universe.
URL:https://bohmtheatre.org/event/avengers-endgame/
LOCATION:Bohm II\, 203 S. Superior St\, Albion \, 49224
CATEGORIES:Featured - Bohm II,Movie
ATTACH;FMTTYPE=image/jpeg:https://bohmtheatre.org/wp-content/uploads/2019/04/Endgame.jpg
END:VEVENT
BEGIN:VEVENT
DTSTART;TZID=America/Detroit:20190506T190000
DTEND;TZID=America/Detroit:20190506T220000
DTSTAMP:20260420T005149
CREATED:20190402T172417Z
LAST-MODIFIED:20190402T172417Z
UID:3063-1557169200-1557180000@bohmtheatre.org
SUMMARY:Blues at the Bohm with Darrell Franklin and Friends
DESCRIPTION:Darrell Franklin brings his band: Franklin and Friends to host the jam! \n  \nGeneral Admission: $10  \nBohm Members: $5 \nThink Albion. Think Music. \n  \nTickets Here
URL:https://bohmtheatre.org/event/blues-at-the-bohm-with-darrell-franklin-and-friends/
LOCATION:Bohm Theatre\, 201 S. Superior St\, Albion\, MI\, 49224\, United States
CATEGORIES:Music
ATTACH;FMTTYPE=image/jpeg:https://bohmtheatre.org/wp-content/uploads/2019/04/Darrell.jpg
END:VEVENT
BEGIN:VEVENT
DTSTART;VALUE=DATE:20190503
DTEND;VALUE=DATE:20190506
DTSTAMP:20260420T005149
CREATED:20190430T164404Z
LAST-MODIFIED:20190430T164616Z
UID:3085-1556841600-1557100799@bohmtheatre.org
SUMMARY:Breakthrough
DESCRIPTION:Rated PG | 1hr 56min \nShowtimes: \n\nFri 6:30 PM\nSat 3:30 & 6:30 PM\nSun 3:30 & 6:30 PM\n\n \nTickets are $5.00 before 5:00 pm. At 5:00 pm and after adults are $6.50\, children (12 and under) and seniors (62 and over) are $5.50. \nWhen her 14-year-old son drowns in a lake\, a faithful mother prays for him to come back from the brink of death and be healed.
URL:https://bohmtheatre.org/event/breakthrough/
LOCATION:Bohm II\, 203 S. Superior St\, Albion \, 49224
CATEGORIES:Featured - Bohm II,Movie
END:VEVENT
BEGIN:VEVENT
DTSTART;VALUE=DATE:20190502
DTEND;VALUE=DATE:20190503
DTSTAMP:20260420T005149
CREATED:20190402T173154Z
LAST-MODIFIED:20190430T164545Z
UID:3068-1556755200-1556841599@bohmtheatre.org
SUMMARY:SHAZAM!
DESCRIPTION:Rated PG-13 | 2hr 12min \nShowtimes: \n\nThu 6:30 PM\n\n \nTickets are $5.00 before 5:00 pm. At 5:00 pm and after adults are $6.50\, children (12 and under) and seniors (62 and over) are $5.50. \n\nWe all have a superhero inside us\, it just takes a bit of magic to bring it out. In Billy Batson’s case\, by shouting out one word – SHAZAM! – this streetwise fourteen-year-old foster kid can turn into the adult superhero Shazam.
URL:https://bohmtheatre.org/event/shazam/
LOCATION:Bohm II\, 203 S. Superior St\, Albion \, 49224
CATEGORIES:Featured - Bohm II,Movie
ATTACH;FMTTYPE=image/jpeg:https://bohmtheatre.org/wp-content/uploads/2019/04/SHAZAM.jpg
END:VEVENT
BEGIN:VEVENT
DTSTART;VALUE=DATE:20190418
DTEND;VALUE=DATE:20190422
DTSTAMP:20260420T005149
CREATED:20190416T180224Z
LAST-MODIFIED:20190416T180224Z
UID:3073-1555545600-1555891199@bohmtheatre.org
SUMMARY:Pet Sematary
DESCRIPTION:Rated R | 1hr 41min \nShowtimes: \n\nThu 7:00 PM\nFri 7:00 PM\nSat 4:00 & 7:00 PM\nSun 4:00 & 7:00 PM\n\n \nTickets are $5.00 before 5:00 pm. At 5:00 pm and after adults are $6.50\, children (12 and under) and seniors (62 and over) are $5.50. \n\nDr. Louis Creed and his wife\, Rachel\, relocate from Boston to rural Maine with their two young children. The couple soon discover a mysterious burial ground hidden deep in the woods near their new home.
URL:https://bohmtheatre.org/event/pet-sematary/
LOCATION:Bohm Theatre\, 201 S. Superior St\, Albion\, MI\, 49224\, United States
CATEGORIES:Featured,Movie
END:VEVENT
BEGIN:VEVENT
DTSTART;VALUE=DATE:20190411
DTEND;VALUE=DATE:20190415
DTSTAMP:20260420T005149
CREATED:20190326T154445Z
LAST-MODIFIED:20190409T145511Z
UID:3053-1554940800-1555286399@bohmtheatre.org
SUMMARY:Dumbo
DESCRIPTION:Rated PG | 1hr 52min \nShowtimes: \n\nThu 6:30 PM\nFri 6:30 PM\nSat 3:30 & 6:30 PM\nSun 3:30 & 6:30 PM\n\n \nTickets are $5.00 before 5:00 pm. At 5:00 pm and after adults are $6.50\, children (12 and under) and seniors (62 and over) are $5.50. \n\nA young elephant\, whose oversized ears enable him to fly\, helps save a struggling circus\, but when the circus plans a new venture\, Dumbo and his friends discover dark secrets beneath its shiny veneer.
URL:https://bohmtheatre.org/event/dumbo/
LOCATION:Bohm II\, 203 S. Superior St\, Albion \, 49224
CATEGORIES:Featured - Bohm II,Movie
END:VEVENT
BEGIN:VEVENT
DTSTART;TZID=America/Detroit:20190401T190000
DTEND;TZID=America/Detroit:20190401T220000
DTSTAMP:20260420T005149
CREATED:20190326T155033Z
LAST-MODIFIED:20190326T155033Z
UID:3057-1554145200-1554156000@bohmtheatre.org
SUMMARY:Harper and Midwest Kind -- Blues at the Bohm
DESCRIPTION:Harper! The Australian Blues man who brings the didgeridoo and the harmonica into the American Blues Tradition…and it works and it will make you feel it new again. \n  \nGeneral Admission: $10  \nBohm Members: $5 \nThink Albion. Think Music. \n  \nTickets Here
URL:https://bohmtheatre.org/event/harper-and-midwest-kind-blues-at-the-bohm/
LOCATION:Bohm Theatre\, 201 S. Superior St\, Albion\, MI\, 49224\, United States
CATEGORIES:Music
ATTACH;FMTTYPE=image/jpeg:https://bohmtheatre.org/wp-content/uploads/2019/03/Harper.jpg
END:VEVENT
BEGIN:VEVENT
DTSTART;VALUE=DATE:20190328
DTEND;VALUE=DATE:20190401
DTSTAMP:20260420T005149
CREATED:20190319T154905Z
LAST-MODIFIED:20190326T154537Z
UID:3047-1553731200-1554076799@bohmtheatre.org
SUMMARY:Us
DESCRIPTION:Rated R | 1hr 56min \nShowtimes: \n\nThu 6:30 PM\nFri 6:30 PM\nSat 3:30 & 6:30 PM\nSun 3:30 & 6:30 PM\n\n \nTickets are $5.00 before 5:00 pm. At 5:00 pm and after adults are $6.50\, children (12 and under) and seniors (62 and over) are $5.50. \n\nA family’s serenity turns to chaos when a group of doppelgängers begins to terrorize them.
URL:https://bohmtheatre.org/event/us/
LOCATION:Bohm Theatre\, 201 S. Superior St\, Albion\, MI\, 49224\, United States
CATEGORIES:Featured - Bohm II,Movie
END:VEVENT
BEGIN:VEVENT
DTSTART;VALUE=DATE:20190321
DTEND;VALUE=DATE:20190325
DTSTAMP:20260420T005149
CREATED:20190305T012051Z
LAST-MODIFIED:20190326T153902Z
UID:3040-1553126400-1553471999@bohmtheatre.org
SUMMARY:Captain Marvel
DESCRIPTION:Rated PG-13 | 2hr 04min \nShowtimes: \n\nThu 6:30 PM\nFri 6:30 PM\nSat 3:30 & 6:30 PM\nSun 3:30 & 6:30 PM\n\n \nTickets are $5.00 before 5:00 pm. At 5:00 pm and after adults are $6.50\, children (12 and under) and seniors (62 and over) are $5.50. \n\nCarol Danvers becomes one of the universe’s most powerful heroes when Earth is caught in the middle of a galactic war between two alien races.
URL:https://bohmtheatre.org/event/captain-marvel/
LOCATION:Bohm Theatre\, 201 S. Superior St\, Albion\, MI\, 49224\, United States
CATEGORIES:Movie
END:VEVENT
BEGIN:VEVENT
DTSTART;VALUE=DATE:20190314
DTEND;VALUE=DATE:20190318
DTSTAMP:20260420T005149
CREATED:20190219T173109Z
LAST-MODIFIED:20190312T161543Z
UID:3030-1552521600-1552867199@bohmtheatre.org
SUMMARY:How to Train Your Dragon: The Hidden World
DESCRIPTION:Rated PG | 1hr 44min \nShowtimes: \n\nThu 6:30 PM\nFri 6:30 PM\nSat 3:30 & 6:30 PM\nSun 3:30 & 6:30 PM\n\n \nTickets are $5.00 before 5:00 pm. At 5:00 pm and after adults are $6.50\, children (12 and under) and seniors (62 and over) are $5.50. \n\nWhen Hiccup discovers Toothless isn’t the only Night Fury\, he must seek “The Hidden World”\, a secret Dragon Utopia before a hired tyrant named Grimmel finds it first.
URL:https://bohmtheatre.org/event/how-to-train-your-dragon-the-hidden-world/
LOCATION:Bohm Theatre\, 201 S. Superior St\, Albion\, MI\, 49224\, United States
CATEGORIES:Featured - Bohm II,Movie
END:VEVENT
BEGIN:VEVENT
DTSTART;TZID=America/Detroit:20190304T190000
DTEND;TZID=America/Detroit:20190304T220000
DTSTAMP:20260420T005149
CREATED:20190209T003404Z
LAST-MODIFIED:20190209T004807Z
UID:3014-1551726000-1551736800@bohmtheatre.org
SUMMARY:Thornetta Davis - Blues at the Bohm 4th Anniversary
DESCRIPTION:The Queen of Detroit Blues will host our 4th Anniversary Show! Don’t miss this chance to see her right here at home. \n  \nGeneral Admission: $20  \nBohm Members: $15 \nThink Albion. Think Music. \n  \nTickets Here \n  \nSponsored by Albion Malleable Brewing Company
URL:https://bohmtheatre.org/event/thornetta-davis-blues-at-the-bohm-4th-anniversary/
LOCATION:Bohm Theatre\, 201 S. Superior St\, Albion\, MI\, 49224\, United States
CATEGORIES:Music
ATTACH;FMTTYPE=image/jpeg:https://bohmtheatre.org/wp-content/uploads/2019/02/Thornetta-Davis1.jpeg
END:VEVENT
BEGIN:VEVENT
DTSTART;VALUE=DATE:20190301
DTEND;VALUE=DATE:20190304
DTSTAMP:20260420T005149
CREATED:20190226T173839Z
LAST-MODIFIED:20190226T173839Z
UID:3033-1551398400-1551657599@bohmtheatre.org
SUMMARY:Green Book
DESCRIPTION:Rated PG-13 | 2hr 10min \nShowtimes: \n\nFri 6:30 PM\nSat 3:30 & 6:30 PM\nSun 3:30 & 6:30 PM\n\n \nTickets are $5.00 before 5:00 pm. At 5:00 pm and after adults are $6.50\, children (12 and under) and seniors (62 and over) are $5.50. \n\nA working-class Italian-American bouncer becomes the driver of an African-American classical pianist on a tour of venues through the 1960s American South.
URL:https://bohmtheatre.org/event/green-book/
LOCATION:Bohm II\, 203 S. Superior St\, Albion \, 49224
CATEGORIES:Featured - Bohm II,Movie
END:VEVENT
BEGIN:VEVENT
DTSTART;VALUE=DATE:20190228
DTEND;VALUE=DATE:20190301
DTSTAMP:20260420T005149
CREATED:20190212T152441Z
LAST-MODIFIED:20190226T173534Z
UID:3024-1551312000-1551398399@bohmtheatre.org
SUMMARY:Alita: Battle Angel
DESCRIPTION:Rated PG-13 | 2hr 02min \nShowtimes: \n\nThu 6:30 PM\n\n \nTickets are $5.00 before 5:00 pm. At 5:00 pm and after adults are $6.50\, children (12 and under) and seniors (62 and over) are $5.50. \n\nA deactivated female cyborg is revived\, but cannot remember anything of her past life and goes on a quest to find out who she is.
URL:https://bohmtheatre.org/event/alita-battle-angel/
LOCATION:Bohm II\, 203 S. Superior St\, Albion \, 49224
CATEGORIES:Featured - Bohm II,Movie
END:VEVENT
BEGIN:VEVENT
DTSTART;VALUE=DATE:20190214
DTEND;VALUE=DATE:20190218
DTSTAMP:20260420T005149
CREATED:20190205T013245Z
LAST-MODIFIED:20190212T152258Z
UID:3002-1550102400-1550447999@bohmtheatre.org
SUMMARY:The Lego Movie 2: The Second Part
DESCRIPTION:Rated PG | 1hr 46min \nShowtimes: \n\nThu 6:30 PM\nFri 6:30 PM\nSat 3:30 & 6:30 PM\nSun 3:30 & 6:30 PM\n\n \nTickets are $5.00 before 5:00 pm. At 5:00 pm and after adults are $6.50\, children (12 and under) and seniors (62 and over) are $5.50. \n\nIt’s been five years since everything was awesome and the citizens are facing a huge new threat: LEGO DUPLO® invaders from outer space\, wrecking everything faster than they can rebuild.
URL:https://bohmtheatre.org/event/the-lego-movie-2-the-second-part/
LOCATION:Bohm II\, 203 S. Superior St\, Albion \, 49224
CATEGORIES:Featured - Bohm II,Movie
END:VEVENT
BEGIN:VEVENT
DTSTART;VALUE=DATE:20190208
DTEND;VALUE=DATE:20190211
DTSTAMP:20260420T005149
CREATED:20190205T014032Z
LAST-MODIFIED:20190208T194809Z
UID:3005-1549584000-1549843199@bohmtheatre.org
SUMMARY:2019 Oscar Nominated Short Films
DESCRIPTION:Documentary Shorts Rated R 137 min \nAnimated Shorts Rated PG 75 min \nLive Action Shorts Rated R 108 min \nShowtimes: \n\nFri 6:30 PM  Documentary\nSat 3:30 PM Animated & 6:30 PM Live Action\nSun 3:30 PM Animated & 6:30 PM Documentary\n\n \nTickets are $5.00 before 5:00 pm. At 5:00 pm and after adults are $6.50\, children (12 and under) and seniors (62 and over) are $5.50. \n\nCatch the 2019 Academy Award Nominated Short Films at the Bohm Theatre!
URL:https://bohmtheatre.org/event/2019-oscar-nominated-short-films/
LOCATION:Bohm II\, 203 S. Superior St\, Albion \, 49224
CATEGORIES:Featured - Bohm II,Movie
END:VEVENT
BEGIN:VEVENT
DTSTART;VALUE=DATE:20190207
DTEND;VALUE=DATE:20190208
DTSTAMP:20260420T005149
CREATED:20190128T162956Z
LAST-MODIFIED:20190205T012753Z
UID:2990-1549497600-1549583999@bohmtheatre.org
SUMMARY:Escape Room
DESCRIPTION:Rated PG-13 | 1hr 39min \nShowtimes: \n\nThu 6:30 PM\n\n \nTickets are $5.00 before 5:00 pm. At 5:00 pm and after adults are $6.50\, children (12 and under) and seniors (62 and over) are $5.50. \n\nSix strangers find themselves in a maze of deadly mystery rooms\, and must use their wits to survive.
URL:https://bohmtheatre.org/event/escape-room/
LOCATION:Bohm II\, 203 S. Superior St\, Albion \, 49224
CATEGORIES:Featured - Bohm II,Movie
END:VEVENT
BEGIN:VEVENT
DTSTART;TZID=America/Detroit:20190204T190000
DTEND;TZID=America/Detroit:20190204T220000
DTSTAMP:20260420T005149
CREATED:20190115T191252Z
LAST-MODIFIED:20190122T171803Z
UID:2973-1549306800-1549317600@bohmtheatre.org
SUMMARY:The Chris Canas Band
DESCRIPTION:The Chris Canas Band is simply the hardest working\, most exciting thing happening in soul/funk/blues right now. \n  \nGeneral Admission: $10  \nBohm Members: $5 \nThink Albion. Think Music. \n  \nTickets Here
URL:https://bohmtheatre.org/event/the-chris-canas-band/
LOCATION:Bohm Theatre\, 201 S. Superior St\, Albion\, MI\, 49224\, United States
CATEGORIES:Music
ATTACH;FMTTYPE=image/jpeg:https://bohmtheatre.org/wp-content/uploads/2019/01/chris-canas.jpg
END:VEVENT
BEGIN:VEVENT
DTSTART;VALUE=DATE:20190131
DTEND;VALUE=DATE:20190204
DTSTAMP:20260420T005149
CREATED:20190122T172841Z
LAST-MODIFIED:20190205T011657Z
UID:2984-1548892800-1549238399@bohmtheatre.org
SUMMARY:Bohemian Rhapsody
DESCRIPTION:Rated PG-13 | 2hr 14min \nShowtimes: \n\nThu 7:00 PM\nFri 7:00 PM\nSat 4:00 & 7:00 PM\nSun 4:00 & 7:00 PM\n\n \nTickets are $5.00 before 5:00 pm. At 5:00 pm and after adults are $6.50\, children (12 and under) and seniors (62 and over) are $5.50. \n\nThe story of the legendary rock band Queen and lead singer Freddie Mercury\, leading up to their famous performance at Live Aid (1985).
URL:https://bohmtheatre.org/event/bohemian-rhapsody/
LOCATION:Bohm Theatre\, 201 S. Superior St\, Albion\, MI\, 49224\, United States
END:VEVENT
BEGIN:VEVENT
DTSTART;VALUE=DATE:20190131
DTEND;VALUE=DATE:20190201
DTSTAMP:20260420T005149
CREATED:20190115T185751Z
LAST-MODIFIED:20190128T194716Z
UID:2967-1548892800-1548979199@bohmtheatre.org
SUMMARY:Glass
DESCRIPTION:Rated PG-13 | 2hr 09min \nShowtimes: \n\nThu 6:30 PM\n\n \nTickets are $5.00 before 5:00 pm. At 5:00 pm and after adults are $6.50\, children (12 and under) and seniors (62 and over) are $5.50. \n\nSecurity guard David Dunn uses his supernatural abilities to track Kevin Wendell Crumb\, a disturbed man who has twenty-four personalities.
URL:https://bohmtheatre.org/event/glass/
LOCATION:Bohm II\, 203 S. Superior St\, Albion \, 49224
CATEGORIES:Featured - Bohm II,Movie
END:VEVENT
BEGIN:VEVENT
DTSTART;VALUE=DATE:20190124
DTEND;VALUE=DATE:20190125
DTSTAMP:20260420T005149
CREATED:20190108T234908Z
LAST-MODIFIED:20190122T172152Z
UID:2942-1548288000-1548374399@bohmtheatre.org
SUMMARY:Mary Poppins Returns
DESCRIPTION:Rated PG | 2hr 10min \nShowtimes: \n\nThu 6:30 PM\n\n \nTickets are $5.00 before 5:00 pm. At 5:00 pm and after adults are $6.50\, children (12 and under) and seniors (62 and over) are $5.50. \n\nDecades after her original visit\, the magical nanny returns to help the Banks siblings and Michael’s children through a difficult time in their lives.
URL:https://bohmtheatre.org/event/mary-poppins-returns/
LOCATION:Bohm II\, 203 S. Superior St\, Albion \, 49224
CATEGORIES:Featured - Bohm II,Movie
END:VEVENT
END:VCALENDAR