BEGIN:VCALENDAR
VERSION:2.0
PRODID:-//Bohm Theatre - ECPv5.16.0//NONSGML v1.0//EN
CALSCALE:GREGORIAN
METHOD:PUBLISH
X-WR-CALNAME:Bohm Theatre
X-ORIGINAL-URL:https://bohmtheatre.org
X-WR-CALDESC:Events for Bohm Theatre
REFRESH-INTERVAL;VALUE=DURATION:PT1H
X-Robots-Tag:noindex
X-PUBLISHED-TTL:PT1H
BEGIN:VTIMEZONE
TZID:America/Detroit
BEGIN:DAYLIGHT
TZOFFSETFROM:-0500
TZOFFSETTO:-0400
TZNAME:EDT
DTSTART:20180311T070000
END:DAYLIGHT
BEGIN:STANDARD
TZOFFSETFROM:-0400
TZOFFSETTO:-0500
TZNAME:EST
DTSTART:20181104T060000
END:STANDARD
END:VTIMEZONE
BEGIN:VEVENT
DTSTART;TZID=America/Detroit:20181006T100000
DTEND;TZID=America/Detroit:20181006T123000
DTSTAMP:20260423T174855
CREATED:20181005T163949Z
LAST-MODIFIED:20181005T163949Z
UID:2704-1538820000-1538829000@bohmtheatre.org
SUMMARY:Matinee Movie - Black Panther
DESCRIPTION:Presented by Albion Big Read 
URL:https://bohmtheatre.org/event/matinee-movie-black-panther/
LOCATION:Bohm Theatre\, 201 S. Superior St\, Albion\, MI\, 49224\, United States
CATEGORIES:Movie
END:VEVENT
BEGIN:VEVENT
DTSTART;VALUE=DATE:20181004
DTEND;VALUE=DATE:20181015
DTSTAMP:20260423T174855
CREATED:20181002T133038Z
LAST-MODIFIED:20181016T223625Z
UID:2684-1538611200-1539561599@bohmtheatre.org
SUMMARY:Venom
DESCRIPTION:Rated PG-13 | 1hr 52min \nShowtimes: \n\nThur 7:00 PM\nFri 7:00 PM\nSat 4:00 & 7:00 PM\nSun 4:00 & 7:00 PM\n\n \nTickets are $5.00 before 5:00 pm. At 5:00 pm and after adults are $6.50\, children (12 and under) and seniors (62 and over) are $5.50.\n\n\n\nWhen Eddie Brock acquires the powers of a symbiote\, he will have to release his alter-ego “Venom” to save his life.
URL:https://bohmtheatre.org/event/venom/
LOCATION:Bohm Theatre\, 201 S. Superior St\, Albion\, MI\, 49224\, United States
END:VEVENT
BEGIN:VEVENT
DTSTART;VALUE=DATE:20180927
DTEND;VALUE=DATE:20181008
DTSTAMP:20260423T174855
CREATED:20180926T155611Z
LAST-MODIFIED:20181105T230727Z
UID:2678-1538006400-1538956799@bohmtheatre.org
SUMMARY:Smallfoot
DESCRIPTION:Rated PG | 1hr 36min \nShowtimes: \n\nThur 6:30 PM\nFri 6:30 PM\nSat 3:30 & 6:30 PM\nSun 3:30 & 6:30 PM\n\n \nTickets are $5.00 before 5:00 pm. At 5:00 pm and after adults are $6.50\, children (12 and under) and seniors (62 and over) are $5.50. \n\nA Yeti is convinced that the elusive creatures known as “humans” really do exist.
URL:https://bohmtheatre.org/event/smallfoot/
LOCATION:Bohm II\, 203 S. Superior St\, Albion \, 49224
CATEGORIES:Movie
END:VEVENT
BEGIN:VEVENT
DTSTART;VALUE=DATE:20180920
DTEND;VALUE=DATE:20181001
DTSTAMP:20260423T174855
CREATED:20180918T151940Z
LAST-MODIFIED:20181105T230739Z
UID:2672-1537401600-1538351999@bohmtheatre.org
SUMMARY:The House With a Clock in Its Walls
DESCRIPTION:Rated PG | 1hr 44min \nShowtimes: \n\nThur 6:30 PM\nFri  6:30 PM\nSat 3:30 & 6:30 PM\nSun 3:30 & 6:30 PM\n\n \nTickets are $5.00 before 5:00 pm. At 5:00 pm and after adults are $6.50\, children (12 and under) and seniors (62 and over) are $5.50. \n\nA young orphan named Lewis Barnavelt aids his magical uncle in locating a clock with the power to bring about the end of the world.
URL:https://bohmtheatre.org/event/the-house-with-a-clock-in-its-walls/
LOCATION:Bohm II\, 203 S. Superior St\, Albion \, 49224
CATEGORIES:Movie
END:VEVENT
BEGIN:VEVENT
DTSTART;VALUE=DATE:20180914
DTEND;VALUE=DATE:20180917
DTSTAMP:20260423T174855
CREATED:20180910T215348Z
LAST-MODIFIED:20180918T152031Z
UID:2668-1536883200-1537142399@bohmtheatre.org
SUMMARY:Searching
DESCRIPTION:Rated PG-13 | 1hr 42min \nShowtimes: \n\nFri 6:30 PM\nSat 3:30 & 6:30 PM\nSun 3:30 & 6:30 PM\n\n \nTickets are $5.00 before 5:00 pm. At 5:00 pm and after adults are $6.50\, children (12 and under) and seniors (62 and over) are $5.50. \n\nAfter his 16-year-old daughter goes missing\, a desperate father breaks into her laptop to look for clues to find her.
URL:https://bohmtheatre.org/event/searching/
LOCATION:Bohm II\, 203 S. Superior St\, Albion \, 49224
CATEGORIES:Movie
END:VEVENT
BEGIN:VEVENT
DTSTART;VALUE=DATE:20180913
DTEND;VALUE=DATE:20180924
DTSTAMP:20260423T174855
CREATED:20180910T214855Z
LAST-MODIFIED:20181105T230755Z
UID:2661-1536796800-1537747199@bohmtheatre.org
SUMMARY:The Predator
DESCRIPTION:Rated R | 1hr 47min \nShowtimes: \n\nThur 9:30 PM\nFri 6:30 PM\nSat 3:30 & 6:30 PM\nSun 3:30 & 6:30 PM\n\n \nTickets are $5.00 before 5:00 pm. At 5:00 pm and after adults are $6.50\, children (12 and under) and seniors (62 and over) are $5.50. \n\nWhen a young boy accidentally triggers the universe’s most lethal hunters’ return to Earth\, only a ragtag crew of ex-soldiers and a disgruntled science teacher can prevent the end of the human race.
URL:https://bohmtheatre.org/event/the-predator/
LOCATION:Bohm II\, 203 S. Superior St\, Albion \, 49224
CATEGORIES:Movie
END:VEVENT
BEGIN:VEVENT
DTSTART;VALUE=DATE:20180907
DTEND;VALUE=DATE:20180914
DTSTAMP:20260423T174856
CREATED:20180905T134005Z
LAST-MODIFIED:20180910T214853Z
UID:2653-1536278400-1536883199@bohmtheatre.org
SUMMARY:Won't You Be My Neighbor?
DESCRIPTION:Rated PG-13 | 1hr 34min \nShowtimes: \n\nThur 6:30 PM\n\n \nTickets are $5.00 before 5:00 pm. At 5:00 pm and after adults are $6.50\, children (12 and under) and seniors (62 and over) are $5.50. \n\nAn exploration of the life\, lessons\, and legacy of iconic children’s television host\, Fred Rogers.
URL:https://bohmtheatre.org/event/wont-you-be-my-neighbor/
LOCATION:Bohm II\, 203 S. Superior St\, Albion \, 49224
CATEGORIES:Movie
END:VEVENT
BEGIN:VEVENT
DTSTART;VALUE=DATE:20180824
DTEND;VALUE=DATE:20180907
DTSTAMP:20260423T174856
CREATED:20180822T153508Z
LAST-MODIFIED:20180905T134002Z
UID:2631-1535068800-1536278399@bohmtheatre.org
SUMMARY:BlacKkKlansman
DESCRIPTION:Rated R | 2hr 15min \nShowtimes: \n\nThur 7:00 PM\n\n \nTickets are $5.00 before 5:00 pm. At 5:00 pm and after adults are $6.50\, children (12 and under) and seniors (62 and over) are $5.50. \n\nRon Stallworth\, an African-American police officer from Colorado\, successfully manages to infiltrate the local Ku Klux Klan with the help of a white surrogate\, who eventually becomes head of the local branch.
URL:https://bohmtheatre.org/event/blackkklansman/
LOCATION:Bohm Theatre\, 201 S. Superior St\, Albion\, MI\, 49224\, United States
CATEGORIES:Movie
END:VEVENT
BEGIN:VEVENT
DTSTART;VALUE=DATE:20180824
DTEND;VALUE=DATE:20180910
DTSTAMP:20260423T174856
CREATED:20180822T153504Z
LAST-MODIFIED:20181105T230810Z
UID:2636-1535068800-1536537599@bohmtheatre.org
SUMMARY:Crazy Rich Asians
DESCRIPTION:Rated PG-13 | 1hr 54min \nShowtimes: \n\nThur 6:30 PM\nFri 6:30 PM\nSat 3:30 & 6:30 PM\nSun 3:30 & 6:30 PM\n\n \nTickets are $5.00 before 5:00 pm. At 5:00 pm and after adults are $6.50\, children (12 and under) and seniors (62 and over) are $5.50. \n\nThis contemporary romantic comedy\, based on a global bestseller\, follows native New Yorker Rachel Chu to Singapore to meet her boyfriend’s family.
URL:https://bohmtheatre.org/event/crazy-rich-asians/
LOCATION:Bohm II\, 203 S. Superior St\, Albion \, 49224
CATEGORIES:Movie
END:VEVENT
BEGIN:VEVENT
DTSTART;VALUE=DATE:20180817
DTEND;VALUE=DATE:20180824
DTSTAMP:20260423T174856
CREATED:20180814T194805Z
LAST-MODIFIED:20180822T153459Z
UID:2626-1534464000-1535068799@bohmtheatre.org
SUMMARY:Mamma Mia 2: Here We Go Again
DESCRIPTION:Rated PG-13 | 1hr 54min \nShowtimes: \n\nThur 7:00 PM\n\n \nTickets are $5.00 before 5:00 pm. At 5:00 pm and after adults are $6.50\, children (12 and under) and seniors (62 and over) are $5.50. \n\nFive years after the events of Mamma Mia! (2008)\, Sophie learns about her mother’s past while pregnant herself.
URL:https://bohmtheatre.org/event/mamma-mia-2-here-we-go-again/
LOCATION:Bohm Theatre\, 201 S. Superior St\, Albion\, MI\, 49224\, United States
CATEGORIES:Movie
END:VEVENT
BEGIN:VEVENT
DTSTART;TZID=America/Detroit:20180810T110000
DTEND;TZID=America/Detroit:20180810T123000
DTSTAMP:20260423T174856
CREATED:20180628T154017Z
LAST-MODIFIED:20180628T154017Z
UID:2575-1533898800-1533904200@bohmtheatre.org
SUMMARY:Space Jam
DESCRIPTION:Kids Free Friday Film\nIn a desperate attempt to win a basketball match and earn their freedom\, the Looney Tunes seek the aid of retired basketball champion\, Michael Jordan.
URL:https://bohmtheatre.org/event/space-jam/
LOCATION:Bohm Theatre\, 201 S. Superior St\, Albion\, MI\, 49224\, United States
CATEGORIES:Movie
END:VEVENT
BEGIN:VEVENT
DTSTART;VALUE=DATE:20180809
DTEND;VALUE=DATE:20180824
DTSTAMP:20260423T174856
CREATED:20180806T235528Z
LAST-MODIFIED:20180822T153501Z
UID:2619-1533772800-1535068799@bohmtheatre.org
SUMMARY:The Meg
DESCRIPTION:Rated PG-13 | 1hr 53min \nShowtimes: \n\nThur 6:30 PM\n\n \nTickets are $5.00 before 5:00 pm. At 5:00 pm and after adults are $6.50\, children (12 and under) and seniors (62 and over) are $5.50. \n\nAfter escaping an attack by what he claims was a 70-foot shark\, Jonas Taylor must confront his fears to save those trapped in a sunken submersible.
URL:https://bohmtheatre.org/event/the-meg/
LOCATION:Bohm II\, 203 S. Superior St\, Albion \, 49224
CATEGORIES:Movie
END:VEVENT
BEGIN:VEVENT
DTSTART;TZID=America/Detroit:20180806T190000
DTEND;TZID=America/Detroit:20180806T220000
DTSTAMP:20260423T174856
CREATED:20180726T142103Z
LAST-MODIFIED:20180726T142103Z
UID:2605-1533582000-1533592800@bohmtheatre.org
SUMMARY:Blues at the Bohm Featuring Martila Sanders & Gee Q
DESCRIPTION:Think Albion. Think Music.
URL:https://bohmtheatre.org/event/blues-at-the-bohm-featuring-martila-sanders-gee-q/
LOCATION:Bohm Theatre\, 201 S. Superior St\, Albion\, MI\, 49224\, United States
CATEGORIES:Music
ATTACH;FMTTYPE=image/jpeg:https://bohmtheatre.org/wp-content/uploads/2018/07/martila-sanders-.jpg
END:VEVENT
BEGIN:VEVENT
DTSTART;TZID=America/Detroit:20180803T110000
DTEND;TZID=America/Detroit:20180803T125500
DTSTAMP:20260423T174856
CREATED:20180628T153730Z
LAST-MODIFIED:20180628T153730Z
UID:2573-1533294000-1533300900@bohmtheatre.org
SUMMARY:Akeelah and the Bee
DESCRIPTION:Kids Free Friday Film\nA young girl from South Los Angeles tries to make it to the National Spelling Bee.
URL:https://bohmtheatre.org/event/akeelah-and-the-bee/
LOCATION:Bohm Theatre\, 201 S. Superior St\, Albion\, MI\, 49224\, United States
CATEGORIES:Movie
END:VEVENT
BEGIN:VEVENT
DTSTART;VALUE=DATE:20180802
DTEND;VALUE=DATE:20180817
DTSTAMP:20260423T174856
CREATED:20180730T201843Z
LAST-MODIFIED:20180814T194802Z
UID:2611-1533168000-1534463999@bohmtheatre.org
SUMMARY:Christopher Robin
DESCRIPTION:Rated PG | 1hr 44min \nShowtimes: \n\nThur 6:30 PM\n\n \nTickets are $5.00 before 5:00 pm. At 5:00 pm and after adults are $6.50\, children (12 and under) and seniors (62 and over) are $5.50. \n\nA working-class family man\, Christopher Robin\, encounters his childhood friend Winnie-the-Pooh\, who helps him to rediscover the joys of life.
URL:https://bohmtheatre.org/event/christopher-robin/
LOCATION:Bohm II\, 203 S. Superior St\, Albion \, 49224
CATEGORIES:Movie
END:VEVENT
BEGIN:VEVENT
DTSTART;VALUE=DATE:20180726
DTEND;VALUE=DATE:20180806
DTSTAMP:20260423T174856
CREATED:20180724T140152Z
LAST-MODIFIED:20181105T230821Z
UID:2598-1532563200-1533513599@bohmtheatre.org
SUMMARY:Mission: Impossible - Fallout
DESCRIPTION:Rated PG-13 | 2hr 27min \nShowtimes: \n\nThur 6:30 PM\nFri 6:30 PM\nSat 3:30 & 7:15 PM\nSun 3:30 & 7:15 PM\n\n \nTickets are $5.00 before 5:00 pm. At 5:00 pm and after adults are $6.50\, children (12 and under) and seniors (62 and over) are $5.50. \n\nEthan Hunt and his IMF team\, along with some familiar allies\, race against time after a mission gone wrong.
URL:https://bohmtheatre.org/event/mission-impossible-fallout/
LOCATION:Bohm II\, 203 S. Superior St\, Albion \, 49224
CATEGORIES:Movie
END:VEVENT
END:VCALENDAR