BEGIN:VCALENDAR
VERSION:2.0
PRODID:-//Bohm Theatre - ECPv5.16.0//NONSGML v1.0//EN
CALSCALE:GREGORIAN
METHOD:PUBLISH
X-ORIGINAL-URL:https://bohmtheatre.org
X-WR-CALDESC:Events for Bohm Theatre
REFRESH-INTERVAL;VALUE=DURATION:PT1H
X-Robots-Tag:noindex
X-PUBLISHED-TTL:PT1H
BEGIN:VTIMEZONE
TZID:America/Detroit
BEGIN:DAYLIGHT
TZOFFSETFROM:-0500
TZOFFSETTO:-0400
TZNAME:EDT
DTSTART:20220313T070000
END:DAYLIGHT
BEGIN:STANDARD
TZOFFSETFROM:-0400
TZOFFSETTO:-0500
TZNAME:EST
DTSTART:20221106T060000
END:STANDARD
END:VTIMEZONE
BEGIN:VEVENT
DTSTART;VALUE=DATE:20220103
DTEND;VALUE=DATE:20220104
DTSTAMP:20260423T134816
CREATED:20211228T195251Z
LAST-MODIFIED:20211228T195251Z
UID:4288-1641168000-1641254399@bohmtheatre.org
SUMMARY:Blues at the Bohm with Kev Nichols and Blue Tuesday
DESCRIPTION:Kev Nichols and Blue Tuesday \nJanuary 3rd @7:00 PM \nKev Nichols and Blue Tuesday host Blues at the Bohm in January. \nAdmission: $10 | Tickets Here \nJammers Welcome Back to the stage — Complete Vaccinations required to sign up for Jam
URL:https://bohmtheatre.org/event/blues-at-the-bohm-with-kev-nichols-and-blue-tuesday/
LOCATION:Bohm Theatre\, 201 S. Superior St\, Albion\, MI\, 49224\, United States
CATEGORIES:Featured - Bohm II,Music
ATTACH;FMTTYPE=image/jpeg:https://bohmtheatre.org/wp-content/uploads/2021/12/KevNichJan22.jpg
END:VEVENT
BEGIN:VEVENT
DTSTART;VALUE=DATE:20220107
DTEND;VALUE=DATE:20220110
DTSTAMP:20260423T134816
CREATED:20220104T010811Z
LAST-MODIFIED:20220104T010811Z
UID:4291-1641513600-1641772799@bohmtheatre.org
SUMMARY:The King's Man
DESCRIPTION:Rated R| 2hr 10min \nShowtimes: \n\nFri 7:00 PM\nSat 7:00 PM\nSun 3:00 PM\n\n \nTickets are $5.00 before 5:00 pm. At 5:00 pm and after adults are $6.50\, children (12 and under) and seniors (62 and over) are $5.50. \n\nIn the early years of the 20th century\, the Kingsman agency is formed to stand against a cabal plotting a war to wipe out millions.
URL:https://bohmtheatre.org/event/the-kings-man/
LOCATION:Bohm Theatre\, 201 S. Superior St\, Albion\, MI\, 49224\, United States
CATEGORIES:Featured,Movie
ATTACH;FMTTYPE=image/jpeg:https://bohmtheatre.org/wp-content/uploads/2022/01/Kings-Man.jpg
END:VEVENT
BEGIN:VEVENT
DTSTART;VALUE=DATE:20220121
DTEND;VALUE=DATE:20220124
DTSTAMP:20260423T134816
CREATED:20220111T193542Z
LAST-MODIFIED:20220118T181217Z
UID:4301-1642723200-1642982399@bohmtheatre.org
SUMMARY:Scream
DESCRIPTION:Rated R| 1hr 54min \nShowtimes: \n\nFri 7:00 PM\nSat 7:00 PM\nSun 3:00 PM\n\n \nTickets are $5.00 before 5:00 pm. At 5:00 pm and after adults are $6.50\, children (12 and under) and seniors (62 and over) are $5.50. \n\nTwenty-five years after the original series of murders in Woodsboro\, a new killer emerges\, and Sidney Prescott must return to uncover the truth.
URL:https://bohmtheatre.org/event/scream/
LOCATION:Bohm Theatre\, 201 S. Superior St\, Albion\, MI\, 49224\, United States
CATEGORIES:Featured,Movie
ATTACH;FMTTYPE=image/jpeg:https://bohmtheatre.org/wp-content/uploads/2022/01/scream.jpg
END:VEVENT
BEGIN:VEVENT
DTSTART;VALUE=DATE:20220128
DTEND;VALUE=DATE:20220131
DTSTAMP:20260423T134816
CREATED:20211213T163836Z
LAST-MODIFIED:20220125T153855Z
UID:4271-1643328000-1643587199@bohmtheatre.org
SUMMARY:Spider-Man: No Way Home
DESCRIPTION:Rated PG-13| 2hr 28min \nShowtimes: \n\nFri 7:00 PM\nSat 7:00 PM\nSun 3:00 PM\n\n \nTickets are $5.00 before 5:00 pm. At 5:00 pm and after adults are $6.50\, children (12 and under) and seniors (62 and over) are $5.50. \n\nWith Spider-Man’s identity now revealed\, Peter asks Doctor Strange for help. When a spell goes wrong\, dangerous foes from other worlds start to appear\, forcing Peter to discover what it truly means to be Spider-Man.
URL:https://bohmtheatre.org/event/spider-man-no-way-home/
LOCATION:Bohm Theatre\, 201 S. Superior St\, Albion\, MI\, 49224\, United States
CATEGORIES:Featured,Movie
ATTACH;FMTTYPE=image/jpeg:https://bohmtheatre.org/wp-content/uploads/2021/12/Spidey.jpg
END:VEVENT
END:VCALENDAR