BEGIN:VCALENDAR
VERSION:2.0
PRODID:-//Bohm Theatre - ECPv5.16.0//NONSGML v1.0//EN
CALSCALE:GREGORIAN
METHOD:PUBLISH
X-ORIGINAL-URL:https://bohmtheatre.org
X-WR-CALDESC:Events for Bohm Theatre
REFRESH-INTERVAL;VALUE=DURATION:PT1H
X-Robots-Tag:noindex
X-PUBLISHED-TTL:PT1H
BEGIN:VTIMEZONE
TZID:America/Detroit
BEGIN:DAYLIGHT
TZOFFSETFROM:-0500
TZOFFSETTO:-0400
TZNAME:EDT
DTSTART:20220313T070000
END:DAYLIGHT
BEGIN:STANDARD
TZOFFSETFROM:-0400
TZOFFSETTO:-0500
TZNAME:EST
DTSTART:20221106T060000
END:STANDARD
END:VTIMEZONE
BEGIN:VEVENT
DTSTART;VALUE=DATE:20220923
DTEND;VALUE=DATE:20221003
DTSTAMP:20260422T231116
CREATED:20220920T194423Z
LAST-MODIFIED:20220920T194502Z
UID:4551-1663891200-1664755199@bohmtheatre.org
SUMMARY:Don't Worry Darling
DESCRIPTION:Rated R| 2hr 2min \nShowtimes: \n\nFri 7:00 PM\nSat 7:00 PM\nSun 3:00 PM\n\n \nTickets are $5.00 before 5:00 pm. At 5:00 pm and after adults are $6.50\, children (12 and under) and seniors (62 and over) are $5.50. \n\nA 1950s housewife living with her husband in a utopian experimental community begins to worry that his glamorous company could be hiding disturbing secrets.
URL:https://bohmtheatre.org/event/4551/
LOCATION:Bohm Theatre\, 201 S. Superior St\, Albion\, MI\, 49224\, United States
CATEGORIES:Featured,Movie
ATTACH;FMTTYPE=image/jpeg:https://bohmtheatre.org/wp-content/uploads/2022/09/MV5BM2E0OGE1ZDgtYTA0OC00MDNhLThiMTAtYjgwODBlOGRkMzcwXkEyXkFqcGdeQXVyMTUzOTcyODA5._V1_FMjpg_UX1000_.jpg
END:VEVENT
BEGIN:VEVENT
DTSTART;VALUE=DATE:20221003
DTEND;VALUE=DATE:20221004
DTSTAMP:20260422T231116
CREATED:20220802T162146Z
LAST-MODIFIED:20221004T151714Z
UID:4522-1664755200-1664841599@bohmtheatre.org
SUMMARY:Blues at the Bohm -- A Special Acoustic Evening with Larry McCray (Solo)
DESCRIPTION:Larry McCray \nOctober 3 @7:00 PM \n\n\n\n\n\n\n\nIt`s an honor to have Larry McCray (solo)\, a Rust Belt blues guitarist\, and singer\, bring his talents to Albion. He`s going to put on a show you don`t want to miss\, so come catch this experience at Blues at the Bohm!\n\n\n\n\n\n\n\n\n\n\nAdmission: $10 | Tickets Here \nJammers Welcome Back to the stage — Complete Vaccinations required to sign up for Jam
URL:https://bohmtheatre.org/event/blues-at-the-bohm-a-special-acoustic-evening-with-larry-mccray-solo/
LOCATION:Bohm Theatre\, 201 S. Superior St\, Albion\, MI\, 49224\, United States
CATEGORIES:Featured - Bohm II,Music
ATTACH;FMTTYPE=image/jpeg:https://bohmtheatre.org/wp-content/uploads/2022/08/Larry-McCray-100322-1.jpg
ORGANIZER;CN="Blues%20at%20the%20Bohm":MAILTO:events@bohmtheatre.org
END:VEVENT
BEGIN:VEVENT
DTSTART;TZID=America/Detroit:20221007T080000
DTEND;TZID=America/Detroit:20221009T170000
DTSTAMP:20260422T231116
CREATED:20220927T200453Z
LAST-MODIFIED:20221004T151731Z
UID:4561-1665129600-1665334800@bohmtheatre.org
SUMMARY:The Woman King
DESCRIPTION:Rated PG-13| 2hr 15min \nShowtimes: \n\nFri 7:00 PM\nSat 7:00 PM\nSun 3:00 PM\n\n \nTickets are $5.00 before 5:00 pm. At 5:00 pm and after adults are $6.50\, children (12 and under) and seniors (62 and over) are $5.50. \n\nA historical epic inspired by true events that took place in The Kingdom of Dahomey\, one of the most powerful states of Africa in the 18th and 19th centuries.
URL:https://bohmtheatre.org/event/the-woman-king/
LOCATION:Bohm Theatre\, 201 S. Superior St\, Albion\, MI\, 49224\, United States
CATEGORIES:Featured,Movie
ATTACH;FMTTYPE=image/jpeg:https://bohmtheatre.org/wp-content/uploads/2022/09/womanking-scaled.jpg
END:VEVENT
BEGIN:VEVENT
DTSTART;TZID=America/Detroit:20221014T080000
DTEND;TZID=America/Detroit:20221016T170000
DTSTAMP:20260422T231116
CREATED:20221012T151401Z
LAST-MODIFIED:20221012T151401Z
UID:4572-1665734400-1665939600@bohmtheatre.org
SUMMARY:Smile
DESCRIPTION:Rated R| 1hr 55min \nShowtimes: \n\nFri 7:00 PM\nSat 7:00 PM\nSun 3:00 PM\n\n \nTickets are $5.00 before 5:00 pm. At 5:00 pm and after adults are $6.50\, children (12 and under) and seniors (62 and over) are $5.50. \n\nAfter witnessing a bizarre\, traumatic incident involving a patient\, Dr. Rose Cotter starts experiencing frightening occurrences that she can’t explain. Rose must confront her troubling past in order to survive and escape her horrifying new reality.
URL:https://bohmtheatre.org/event/smile/
LOCATION:Bohm Theatre\, 201 S. Superior St\, Albion\, MI\, 49224\, United States
CATEGORIES:Featured,Movie
ATTACH;FMTTYPE=image/jpeg:https://bohmtheatre.org/wp-content/uploads/2022/10/Smile.jpg
END:VEVENT
BEGIN:VEVENT
DTSTART;VALUE=DATE:20221021
DTEND;VALUE=DATE:20221031
DTSTAMP:20260422T231116
CREATED:20220927T202548Z
LAST-MODIFIED:20221025T154128Z
UID:4564-1666310400-1667174399@bohmtheatre.org
SUMMARY:Black Adam
DESCRIPTION:Rated PG-13| 2hr 4min \nShowtimes: \n\nFri 7:00 PM\nSat 7:00 PM\nSun 3:00 PM\n\n  \nTICKETS ON SALE SOON \n \nTickets are $5.00 before 5:00 pm. At 5:00 pm and after adults are $6.50\, children (12 and under) and seniors (62 and over) are $5.50. \n\nNearly 5\,000 years after he was bestowed with the almighty powers of the Egyptian gods-and imprisoned just as quickly-Black Adam (Johnson) is freed from his earthly tomb\, ready to unleash his unique form of justice on the modern world.
URL:https://bohmtheatre.org/event/black-adam/
LOCATION:MI
CATEGORIES:Featured,Movie
ATTACH;FMTTYPE=image/jpeg:https://bohmtheatre.org/wp-content/uploads/2022/09/Black-Adam-scaled.jpg
END:VEVENT
BEGIN:VEVENT
DTSTART;VALUE=DATE:20221027
DTEND;VALUE=DATE:20221028
DTSTAMP:20260422T231116
CREATED:20221012T163043Z
LAST-MODIFIED:20221025T152456Z
UID:4580-1666828800-1666915199@bohmtheatre.org
SUMMARY:The Purple Gang Documentary Movie Premier
DESCRIPTION:The Purple Gang Documentary Movie Premier \n Thursday\, October 27 @7:00 PM \nToledo Spirit Hunters debut their documentary film about the infamous Purple gang which had it’s own Albion hometown base of operations and Bohm Theatre meeting spot. \nAdmission: $15 | Tickets Here
URL:https://bohmtheatre.org/event/the-purple-gang-documentary-movie-premier/
LOCATION:Bohm Theatre\, 201 S. Superior St\, Albion\, MI\, 49224\, United States
CATEGORIES:Featured - Bohm II,Movie
ATTACH;FMTTYPE=image/jpeg:https://bohmtheatre.org/wp-content/uploads/2022/10/unnamed.jpg
END:VEVENT
BEGIN:VEVENT
DTSTART;VALUE=DATE:20221029
DTEND;VALUE=DATE:20221030
DTSTAMP:20260422T231116
CREATED:20221025T153105Z
LAST-MODIFIED:20221025T153415Z
UID:4588-1667001600-1667087999@bohmtheatre.org
SUMMARY:The Rocky Horror Picture Show
DESCRIPTION:The Rocky Horror Picture Show \n Saturday\, October 29 @11:59 PM \nAdmission: $15 | Tickets Here
URL:https://bohmtheatre.org/event/the-rocky-horror-picture-show-2/
LOCATION:Bohm Theatre\, 201 S. Superior St\, Albion\, MI\, 49224\, United States
CATEGORIES:Movie
ATTACH;FMTTYPE=image/jpeg:https://bohmtheatre.org/wp-content/uploads/2022/10/rocky.jpg
END:VEVENT
END:VCALENDAR