BEGIN:VCALENDAR
VERSION:2.0
PRODID:-//Bohm Theatre - ECPv5.16.0//NONSGML v1.0//EN
CALSCALE:GREGORIAN
METHOD:PUBLISH
X-ORIGINAL-URL:https://bohmtheatre.org
X-WR-CALDESC:Events for Bohm Theatre
REFRESH-INTERVAL;VALUE=DURATION:PT1H
X-Robots-Tag:noindex
X-PUBLISHED-TTL:PT1H
BEGIN:VTIMEZONE
TZID:America/Detroit
BEGIN:DAYLIGHT
TZOFFSETFROM:-0500
TZOFFSETTO:-0400
TZNAME:EDT
DTSTART:20220313T070000
END:DAYLIGHT
BEGIN:STANDARD
TZOFFSETFROM:-0400
TZOFFSETTO:-0500
TZNAME:EST
DTSTART:20221106T060000
END:STANDARD
END:VTIMEZONE
BEGIN:VEVENT
DTSTART;VALUE=DATE:20221104
DTEND;VALUE=DATE:20221107
DTSTAMP:20260422T213854
CREATED:20221102T204828Z
LAST-MODIFIED:20221102T205027Z
UID:4600-1667520000-1667779199@bohmtheatre.org
SUMMARY:Ticket To Paradise
DESCRIPTION:Rated PG-13| 1hr 44min \nShowtimes: \n\nFri 7:00 PM\nSat 7:00 PM\nSun 3:00 PM\n\n  \nTICKETS ON SALE \n \nTickets are $5.00 before 5:00 pm. At 5:00 pm and after adults are $6.50\, children (12 and under) and seniors (62 and over) are $5.50. \n\nA man and his ex-wife race to Bali\, Indonesia\, to stop their daughter from marrying a seaweed farmer. As they desperately try to sabotage the wedding\, the bickering duo soon find themselves rekindling old feelings that once made them happy together.
URL:https://bohmtheatre.org/event/ticket-to-paradise/
LOCATION:Bohm Theatre\, 201 S. Superior St\, Albion\, MI\, 49224\, United States
CATEGORIES:Featured,Movie
ATTACH;FMTTYPE=image/jpeg:https://bohmtheatre.org/wp-content/uploads/2022/11/MV5BZWY2MGIxYjMtNGRiMi00ODczLWFlZjItYzE5YTdmNzdlNDEwXkEyXkFqcGdeQXVyMTMzODk3NDU0._V1_.jpg
END:VEVENT
BEGIN:VEVENT
DTSTART;VALUE=DATE:20221107
DTEND;VALUE=DATE:20221108
DTSTAMP:20260422T213854
CREATED:20221012T162041Z
LAST-MODIFIED:20221102T205610Z
UID:4575-1667779200-1667865599@bohmtheatre.org
SUMMARY:Blues at the Bohm with Mr. Bill & His ZCats
DESCRIPTION:Mr. Bill and His ZCats \nNovember 7 @7:00 PM \nA unique sound is coming to Albion…Mr. Bill and His ZCats! Playing Zydeco with a Motor City edge. Enjoy the performance they’re bringing to us at Blues at the Bohm! \n\n\n\nAdmission: $10 | Tickets Here \nJammers Welcome Back to the stage — Complete Vaccinations required to sign up for Jam
URL:https://bohmtheatre.org/event/blues-at-the-bohm-with-mr-bill-his-zcats/
LOCATION:Bohm Theatre\, 201 S. Superior St\, Albion\, MI\, 49224\, United States
CATEGORIES:Featured - Bohm II,Music
ATTACH;FMTTYPE=image/jpeg:https://bohmtheatre.org/wp-content/uploads/2022/10/MrBill.jpg
END:VEVENT
BEGIN:VEVENT
DTSTART;VALUE=DATE:20221112
DTEND;VALUE=DATE:20221113
DTSTAMP:20260422T213854
CREATED:20221025T162843Z
LAST-MODIFIED:20221109T160904Z
UID:4593-1668211200-1668297599@bohmtheatre.org
SUMMARY:Word UP at the Bohm - Carti Da Hustla
DESCRIPTION:Word Up at the Bohm \nCarti Da Hustla \nNovember 12 @10:00 PM \nHosted by Ryan and Ladi Don of Ryan’s Room. \nWORD UP at the Bohm gives local Hip Hop\, R&B\, Soul artist and poets a platform to showcase their talent! \nWe take pride in allowing artist to be creative and unforgiving in their craft. \nAdmission: $10  \nThink Albion. Think Music.
URL:https://bohmtheatre.org/event/word-up-at-the-bohm-carti-da-hustla/
LOCATION:MI
CATEGORIES:Featured - Bohm II,Music
ATTACH;FMTTYPE=image/jpeg:https://bohmtheatre.org/wp-content/uploads/2022/10/WordUpNOV22JPG.jpg
END:VEVENT
BEGIN:VEVENT
DTSTART;VALUE=DATE:20221118
DTEND;VALUE=DATE:20221119
DTSTAMP:20260422T213854
CREATED:20221104T151958Z
LAST-MODIFIED:20221115T214954Z
UID:4605-1668729600-1668815999@bohmtheatre.org
SUMMARY:Pamyua
DESCRIPTION:Arts Midwest World Fest PAMYUA\n \n Friday\, November 18 @7:00 PM \nAdmission: $5 | Tickets Here \n\n\n\nPamyua showcases Inuit culture though music and dance performance. The show is a platform to share indigenous knowledge and history. Their style derives from traditional melodies reinterpreted with contemporary vocalization and instrumentation. Often described as “Inuit Soul Music\,” Pamyua has discovered their own genre. Band members are proud to represent Indigenous culture. The group believes unity is possible though music and dance. Together\, each member works to interpret Inuit traditions masterfully with joy and sincerity. The response to this message is tremendous as the group is a symbol of pride for Alaska’s indigenous people and to all who see them perform. Pamyua’s performances aim to honor and share indigenous traditions through ceremony\, songs\, and dance.\n\n\n\n\n 
URL:https://bohmtheatre.org/event/pamyua/
LOCATION:MI
CATEGORIES:Featured - Bohm II,Music
ATTACH;FMTTYPE=image/jpeg:https://bohmtheatre.org/wp-content/uploads/2022/11/Pamyua.jpg
END:VEVENT
BEGIN:VEVENT
DTSTART;VALUE=DATE:20221123
DTEND;VALUE=DATE:20221128
DTSTAMP:20260422T213854
CREATED:20221004T154601Z
LAST-MODIFIED:20221129T171320Z
UID:4569-1669161600-1669593599@bohmtheatre.org
SUMMARY:Black Panther: Wakanda Forever
DESCRIPTION:Rated PG-13| 2hr 41min \nShowtimes: \n\nWed 7:30\nFri 6:30 PM\nSat 6:30 PM\nSun 2:30 PM\n\n \nTickets are $5.00 before 5:00 pm. At 5:00 pm and after adults are $6.50\, children (12 and under) and seniors (62 and over) are $5.50. \n\nThe nation of Wakanda is pitted against intervening world powers as they mourn the loss of their king T’Challa
URL:https://bohmtheatre.org/event/black-panther-wakanda-forever/
LOCATION:MI
CATEGORIES:Movie
ATTACH;FMTTYPE=image/jpeg:https://bohmtheatre.org/wp-content/uploads/2022/10/BP2.jpg
END:VEVENT
END:VCALENDAR